BEGIN:VCALENDAR
VERSION:2.0
PRODID:-//C2 Backflow Services - ECPv6.15.17.1//NONSGML v1.0//EN
CALSCALE:GREGORIAN
METHOD:PUBLISH
X-WR-CALNAME:C2 Backflow Services
X-ORIGINAL-URL:https://c2backflowservices.com
X-WR-CALDESC:Events for C2 Backflow Services
REFRESH-INTERVAL;VALUE=DURATION:PT1H
X-Robots-Tag:noindex
X-PUBLISHED-TTL:PT1H
BEGIN:VTIMEZONE
TZID:America/Chicago
BEGIN:DAYLIGHT
TZOFFSETFROM:-0600
TZOFFSETTO:-0500
TZNAME:CDT
DTSTART:20250309T080000
END:DAYLIGHT
BEGIN:STANDARD
TZOFFSETFROM:-0500
TZOFFSETTO:-0600
TZNAME:CST
DTSTART:20251102T070000
END:STANDARD
BEGIN:DAYLIGHT
TZOFFSETFROM:-0600
TZOFFSETTO:-0500
TZNAME:CDT
DTSTART:20260308T080000
END:DAYLIGHT
BEGIN:STANDARD
TZOFFSETFROM:-0500
TZOFFSETTO:-0600
TZNAME:CST
DTSTART:20261101T070000
END:STANDARD
BEGIN:DAYLIGHT
TZOFFSETFROM:-0600
TZOFFSETTO:-0500
TZNAME:CDT
DTSTART:20270314T080000
END:DAYLIGHT
BEGIN:STANDARD
TZOFFSETFROM:-0500
TZOFFSETTO:-0600
TZNAME:CST
DTSTART:20271107T070000
END:STANDARD
END:VTIMEZONE
BEGIN:VEVENT
DTSTART;TZID=America/Chicago:20260324T080000
DTEND;TZID=America/Chicago:20260326T170000
DTSTAMP:20260425T055620
CREATED:20251210T031535Z
LAST-MODIFIED:20260312T205010Z
UID:10001998-1774339200-1774544400@c2backflowservices.com
SUMMARY:24 Hour - BPAT Renewal ( 3/24-26) Lubbock
DESCRIPTION:Cost: $650\nClass Times: 8:00 AM – 5:00 PM
URL:https://c2backflowservices.com/course/24-hour-bpat-renewal-3-24-26-lubbock/
LOCATION:Earl’s Plumbing\, 4720 US Hwy 84\, Lubbock\, TX\, United States
END:VEVENT
BEGIN:VEVENT
DTSTART;TZID=America/Chicago:20260325T080000
DTEND;TZID=America/Chicago:20260325T170000
DTSTAMP:20260425T055620
CREATED:20251210T024627Z
LAST-MODIFIED:20251210T031910Z
UID:10001992-1774425600-1774458000@c2backflowservices.com
SUMMARY:8 Hour - Hands On Practical Skills (3/25)
DESCRIPTION:Cost: $325\nClass Times: 8:00 AM – 5:00 PM
URL:https://c2backflowservices.com/course/8-hour-hands-on-practical-skills-3-25-2/
LOCATION:Earl’s Plumbing\, 4720 US Hwy 84\, Lubbock\, TX\, United States
END:VEVENT
BEGIN:VEVENT
DTSTART;TZID=America/Chicago:20260326T080000
DTEND;TZID=America/Chicago:20260326T170000
DTSTAMP:20260425T055620
CREATED:20251210T024954Z
LAST-MODIFIED:20251210T024954Z
UID:10001993-1774512000-1774544400@c2backflowservices.com
SUMMARY:8 Hour - Hands On Practical Skills (3/26)
DESCRIPTION:Cost: $325\nClass Times: 8:00 AM – 5:00 PM
URL:https://c2backflowservices.com/course/8-hour-hands-on-practical-skills-3-26/
LOCATION:Earl’s Plumbing\, 4720 US Hwy 84\, Lubbock\, TX\, United States
END:VEVENT
BEGIN:VEVENT
DTSTART;TZID=America/Chicago:20260328T080000
DTEND;TZID=America/Chicago:20260328T170000
DTSTAMP:20260425T055620
CREATED:20251210T025328Z
LAST-MODIFIED:20251210T025328Z
UID:10001994-1774684800-1774717200@c2backflowservices.com
SUMMARY:8 Hour - Rules and Regulations Pertaining to Backflow (3/28)
DESCRIPTION:Cost: $200\nClass Times: 8:00 AM – 5:00 PM
URL:https://c2backflowservices.com/course/8-hour-rules-and-regulations-pertaining-to-backflow-3-28/
LOCATION:Earl’s Plumbing\, 4720 US Hwy 84\, Lubbock\, TX\, United States
END:VEVENT
BEGIN:VEVENT
DTSTART;TZID=America/Chicago:20260330T080000
DTEND;TZID=America/Chicago:20260403T170000
DTSTAMP:20260425T055620
CREATED:20251210T032803Z
LAST-MODIFIED:20260114T015628Z
UID:10001999-1774857600-1775235600@c2backflowservices.com
SUMMARY:40 Hour - Backflow Prevention Assembly Tester Course (3/30 - 4/3) El Paso
DESCRIPTION:Cost:$750\nClass Times: 8:00 AM – 5:00 PM
URL:https://c2backflowservices.com/course/40-hour-backflow-prevention-assembly-tester-course-3-30-4-3-el-paso/
LOCATION:Texas A&M Agrilife Center\, 1380 A&M Circle\, El Paso\, TX\, United States
END:VEVENT
BEGIN:VEVENT
DTSTART;TZID=America/Chicago:20260331T080000
DTEND;TZID=America/Chicago:20260331T170000
DTSTAMP:20260425T055620
CREATED:20251210T033036Z
LAST-MODIFIED:20260114T020356Z
UID:10002000-1774944000-1774976400@c2backflowservices.com
SUMMARY:8 Hour - Hands On Practical Skills (3/31) El Paso
DESCRIPTION:Cost: $325\nClass Times: 8:00 AM – 5:00 PM
URL:https://c2backflowservices.com/course/8-hour-hands-on-practical-skills-3-31-el-paso/
LOCATION:Texas A&M Agrilife Center\, 1380 A&M Circle\, El Paso\, TX\, United States
END:VEVENT
BEGIN:VEVENT
DTSTART;TZID=America/Chicago:20260331T080000
DTEND;TZID=America/Chicago:20260402T170000
DTSTAMP:20260425T055620
CREATED:20251210T033542Z
LAST-MODIFIED:20260319T201920Z
UID:10002003-1774944000-1775149200@c2backflowservices.com
SUMMARY:24 Hour - BPAT Renewal (3/31 - 4/2)
DESCRIPTION:Cost: $675\nClass Times: 8:00 AM – 5:00 PM
URL:https://c2backflowservices.com/course/24-hour-bpat-renewal-3-31-4-2/
LOCATION:Texas A&M Agrilife Center\, 1380 A&M Circle\, El Paso\, TX\, United States
END:VEVENT
BEGIN:VEVENT
DTSTART;TZID=America/Chicago:20260401T080000
DTEND;TZID=America/Chicago:20260401T170000
DTSTAMP:20260425T055620
CREATED:20251210T033205Z
LAST-MODIFIED:20260114T020308Z
UID:10002001-1775030400-1775062800@c2backflowservices.com
SUMMARY:8 Hour - Hands On Practical Skills (4/1)
DESCRIPTION:Cost: $325\nClass Times: 8:00 AM – 5:00 PM
URL:https://c2backflowservices.com/course/8-hour-hands-on-practical-skills-4-1-2/
LOCATION:Texas A&M Agrilife Center\, 1380 A&M Circle\, El Paso\, TX\, United States
END:VEVENT
BEGIN:VEVENT
DTSTART;TZID=America/Chicago:20260402T080000
DTEND;TZID=America/Chicago:20260402T170000
DTSTAMP:20260425T055620
CREATED:20251210T033342Z
LAST-MODIFIED:20260114T020241Z
UID:10002002-1775116800-1775149200@c2backflowservices.com
SUMMARY:8 Hour - Hands On Practical Skills (4/2)
DESCRIPTION:Cost: $325\nClass Times: 8:00 AM – 5:00 PM
URL:https://c2backflowservices.com/course/8-hour-hands-on-practical-skills-4-2-2/
LOCATION:Texas A&M Agrilife Center\, 1380 A&M Circle\, El Paso\, TX\, United States
END:VEVENT
BEGIN:VEVENT
DTSTART;TZID=America/Chicago:20260406T080000
DTEND;TZID=America/Chicago:20260407T170000
DTSTAMP:20260425T055620
CREATED:20260303T230943Z
LAST-MODIFIED:20260303T230943Z
UID:10002022-1775462400-1775581200@c2backflowservices.com
SUMMARY:16 Hour - Customer Services Inspector ( 4/6-7) Forney
DESCRIPTION:Cost: $300.00\nClass Times: 8:00 AM – 5:00 PM
URL:https://c2backflowservices.com/course/16-hour-customer-services-inspector-4-6-7-forney/
LOCATION:High Point SUD\, 16983 Valley View\, Forney\, 75126
END:VEVENT
BEGIN:VEVENT
DTSTART;TZID=America/Chicago:20260408T080000
DTEND;TZID=America/Chicago:20260408T170000
DTSTAMP:20260425T055620
CREATED:20260213T215206Z
LAST-MODIFIED:20260213T215206Z
UID:10002020-1775635200-1775667600@c2backflowservices.com
SUMMARY:8 Hour - Rules and Regulations Pertaining to Backflow (4/8)
DESCRIPTION:Cost: $200\nClass Times: 8:00 AM – 5:00 PM
URL:https://c2backflowservices.com/course/8-hour-rules-and-regulations-pertaining-to-backflow-4-8-2/
LOCATION:ONLINE
END:VEVENT
BEGIN:VEVENT
DTSTART;TZID=America/Chicago:20260413T080000
DTEND;TZID=America/Chicago:20260413T170000
DTSTAMP:20260425T055620
CREATED:20260226T223810Z
LAST-MODIFIED:20260226T223810Z
UID:10002021-1776067200-1776099600@c2backflowservices.com
SUMMARY:8 Hour - Confined Space Safety  ( 4/13)
DESCRIPTION:Cost: $250\nClass Times: 8:00 AM – 5:00 PM
URL:https://c2backflowservices.com/course/8-hour-confined-space-safety-4-13/
LOCATION:ONLINE
END:VEVENT
BEGIN:VEVENT
DTSTART;TZID=America/Chicago:20260414T080000
DTEND;TZID=America/Chicago:20260414T163000
DTSTAMP:20260425T055620
CREATED:20260407T232357Z
LAST-MODIFIED:20260407T232454Z
UID:10002024-1776153600-1776184200@c2backflowservices.com
SUMMARY:8 Hour - Hands On Practical Skills ( 4/14)
DESCRIPTION:Cost: $325\nClass Times: 8:00 AM – 4:30 PM
URL:https://c2backflowservices.com/course/8-hour-hands-on-practical-skills-4-14/
LOCATION:Rudd Fire\, 3734 Shiloh Rd.\, Tyler\, TX\, 75707\, United States
END:VEVENT
BEGIN:VEVENT
DTSTART;TZID=America/Chicago:20260427T080000
DTEND;TZID=America/Chicago:20260501T170000
DTSTAMP:20260425T055620
CREATED:20260202T213929Z
LAST-MODIFIED:20260326T222507Z
UID:10002015-1777276800-1777654800@c2backflowservices.com
SUMMARY:40 Hour Backflow Prevention Assembly Tester Course ( 4/27-5/1)  Forney
DESCRIPTION:Cost: $750\nClass Time: 8:00 AM – 4:30 PM
URL:https://c2backflowservices.com/course/40-hour-backflow-prevention-assembly-tester-course-4-27-5-1-forney/
LOCATION:Talty SUD\, 12475 Windy Ln\, Forney\, TX\, United States
END:VEVENT
BEGIN:VEVENT
DTSTART;TZID=America/Chicago:20260428T080000
DTEND;TZID=America/Chicago:20260428T170000
DTSTAMP:20260425T055620
CREATED:20260202T214303Z
LAST-MODIFIED:20260202T214303Z
UID:10002016-1777363200-1777395600@c2backflowservices.com
SUMMARY:8 Hour - Hands On Practical Skills ( 4/28 ) Forney
DESCRIPTION:cost: $325\nClass Times: 8:00 AM – 5:00 PM
URL:https://c2backflowservices.com/course/8-hour-hands-on-practical-skills-4-28-forney/
LOCATION:Talty SUD\, 12475 Windy Ln\, Forney\, TX\, United States
END:VEVENT
BEGIN:VEVENT
DTSTART;TZID=America/Chicago:20260428T080000
DTEND;TZID=America/Chicago:20260430T170000
DTSTAMP:20260425T055620
CREATED:20260202T214949Z
LAST-MODIFIED:20260401T175310Z
UID:10002019-1777363200-1777568400@c2backflowservices.com
SUMMARY:24 Hour - BPAT Renewal CEU's ( 4/28 - 4/30 ) Forney
DESCRIPTION:Cost: $650\nClass Times: 8:00 AM – 5:00 PM
URL:https://c2backflowservices.com/course/24-hour-bpat-renewal-ceus-4-28-4-30-forney/
LOCATION:Talty SUD\, 12475 Windy Ln\, Forney\, TX\, United States
END:VEVENT
BEGIN:VEVENT
DTSTART;TZID=America/Chicago:20260429T080000
DTEND;TZID=America/Chicago:20260429T170000
DTSTAMP:20260425T055620
CREATED:20260202T214456Z
LAST-MODIFIED:20260202T214456Z
UID:10002017-1777449600-1777482000@c2backflowservices.com
SUMMARY:8 Hour - Hands On Practical Skills (4/29) Forney
DESCRIPTION:Cost : $325\nClass Times: 8:00 AM – 5:00 PM
URL:https://c2backflowservices.com/course/8-hour-hands-on-practical-skills-4-29-forney/
LOCATION:Talty SUD\, 12475 Windy Ln\, Forney\, TX\, United States
END:VEVENT
BEGIN:VEVENT
DTSTART;TZID=America/Chicago:20260430T080000
DTEND;TZID=America/Chicago:20260430T170000
DTSTAMP:20260425T055620
CREATED:20260202T214653Z
LAST-MODIFIED:20260401T175607Z
UID:10002018-1777536000-1777568400@c2backflowservices.com
SUMMARY:8 Hour - Hands On Practical Skills (4/30) Forney
DESCRIPTION:Cost : $325\nClass Times: 8:00 AM – 5:00 PM
URL:https://c2backflowservices.com/course/8-hour-hands-on-practical-skills-4-30-forney/
LOCATION:Talty SUD\, 12475 Windy Ln\, Forney\, TX\, United States
END:VEVENT
BEGIN:VEVENT
DTSTART;TZID=America/Chicago:20260504T080000
DTEND;TZID=America/Chicago:20260504T163000
DTSTAMP:20260425T055620
CREATED:20260411T121930Z
LAST-MODIFIED:20260411T121930Z
UID:10002046-1777881600-1777912200@c2backflowservices.com
SUMMARY:8 Hour - Confined Space Safety (5/4)
DESCRIPTION:Cost: $250\nClass Times: 8:00 AM – 4:30 PM
URL:https://c2backflowservices.com/course/8-hour-confined-space-safety-5-4/
LOCATION:ONLINE
END:VEVENT
BEGIN:VEVENT
DTSTART;TZID=America/Chicago:20260508T080000
DTEND;TZID=America/Chicago:20260508T163000
DTSTAMP:20260425T055620
CREATED:20260407T231750Z
LAST-MODIFIED:20260407T232011Z
UID:10002023-1778227200-1778257800@c2backflowservices.com
SUMMARY:8 Hour - Hands On Practical Skills ( 5/8)
DESCRIPTION:Cost: $325\nClass Times: 8:00 AM – 4:30 PM
URL:https://c2backflowservices.com/course/8-hour-hands-on-practical-skills-5-8-2/
LOCATION:Combined Consumers SUD\, 10446 FM 751\, Quinlan\, TX\, 75474\, United States
END:VEVENT
BEGIN:VEVENT
DTSTART;TZID=America/Chicago:20260511T080000
DTEND;TZID=America/Chicago:20260511T163000
DTSTAMP:20260425T055620
CREATED:20260411T122325Z
LAST-MODIFIED:20260411T122325Z
UID:10002047-1778486400-1778517000@c2backflowservices.com
SUMMARY:8 Hour - Rules and Regulation pertaining to Backflow ( 5/11)
DESCRIPTION:Cost: $200\nClass Times: 8:00 AM – 4:30 PM
URL:https://c2backflowservices.com/course/8-hour-rules-and-regulation-pertaining-to-backflow-5-11/
LOCATION:ONLINE
END:VEVENT
BEGIN:VEVENT
DTSTART;TZID=America/Chicago:20260512T080000
DTEND;TZID=America/Chicago:20260513T163000
DTSTAMP:20260425T055620
CREATED:20260417T140805Z
LAST-MODIFIED:20260417T140805Z
UID:10002049-1778572800-1778689800@c2backflowservices.com
SUMMARY:16 Hour - Customer Service Inspector
DESCRIPTION:Cost $300\nClass Times: 8:00 AM – 4:30 PM
URL:https://c2backflowservices.com/course/16-hour-customer-service-inspector-2/
LOCATION:ONLINE
END:VEVENT
BEGIN:VEVENT
DTSTART;TZID=America/Chicago:20260604T080000
DTEND;TZID=America/Chicago:20260605T163000
DTSTAMP:20260425T055620
CREATED:20260417T141139Z
LAST-MODIFIED:20260417T141139Z
UID:10002050-1780560000-1780677000@c2backflowservices.com
SUMMARY:16 Hour - Customer Service Inspector
DESCRIPTION:Cost $300\nClass Times: 8:00 AM – 4:30 PM
URL:https://c2backflowservices.com/course/16-hour-customer-service-inspector-3/
LOCATION:ONLINE
END:VEVENT
BEGIN:VEVENT
DTSTART;TZID=America/Chicago:20260612T080000
DTEND;TZID=America/Chicago:20260612T163000
DTSTAMP:20260425T055620
CREATED:20260411T123011Z
LAST-MODIFIED:20260411T123011Z
UID:10002048-1781251200-1781281800@c2backflowservices.com
SUMMARY:8 Hour - Fundamentals of Backflow (6/12)
DESCRIPTION:Cost: $200\nClass Times: 8:00 AM – 4:30 PM
URL:https://c2backflowservices.com/course/8-hour-fundamentals-of-backflow-6-12/
LOCATION:ONLINE
END:VEVENT
BEGIN:VEVENT
DTSTART;TZID=America/Chicago:20260615T080000
DTEND;TZID=America/Chicago:20260619T170000
DTSTAMP:20260425T055620
CREATED:20260411T112904Z
LAST-MODIFIED:20260411T112904Z
UID:10002027-1781510400-1781888400@c2backflowservices.com
SUMMARY:40 Hour - Backflow Prevention Assembly Tester Course ( 6/15-19) Forney
DESCRIPTION:Cost: $750\nClass Times: 8:00 AM – 5:00 PM
URL:https://c2backflowservices.com/course/40-hour-backflow-prevention-assembly-tester-course-6-15-19-forney/
LOCATION:Talty SUD\, 12475 Windy Ln\, Forney\, TX\, United States
END:VEVENT
BEGIN:VEVENT
DTSTART;TZID=America/Chicago:20260616T080000
DTEND;TZID=America/Chicago:20260616T170000
DTSTAMP:20260425T055620
CREATED:20260411T114029Z
LAST-MODIFIED:20260411T114029Z
UID:10002030-1781596800-1781629200@c2backflowservices.com
SUMMARY:8 Hour - Hands On Practical Skills ( 6/16) Forney
DESCRIPTION:Cost: $325\nClass Times: 8:00 AM – 5:00 PM
URL:https://c2backflowservices.com/course/8-hour-hands-on-practical-skills-6-16-forney/
LOCATION:Talty SUD\, 12475 Windy Ln\, Forney\, TX\, United States
END:VEVENT
BEGIN:VEVENT
DTSTART;TZID=America/Chicago:20260616T080000
DTEND;TZID=America/Chicago:20260618T170000
DTSTAMP:20260425T055620
CREATED:20260411T115146Z
LAST-MODIFIED:20260411T115146Z
UID:10002037-1781596800-1781802000@c2backflowservices.com
SUMMARY:24 Hr - BPAT Renewal CEU's (6/16-18) Forney
DESCRIPTION:Cost: $650\nClass Times: 8:00 AM -5:00 PM
URL:https://c2backflowservices.com/course/24-hr-bpat-renewal-ceus-6-16-18-forney/
LOCATION:Talty SUD\, 12475 Windy Ln\, Forney\, TX\, United States
END:VEVENT
BEGIN:VEVENT
DTSTART;TZID=America/Chicago:20260617T080000
DTEND;TZID=America/Chicago:20260617T170000
DTSTAMP:20260425T055620
CREATED:20260411T114239Z
LAST-MODIFIED:20260411T114239Z
UID:10002031-1781683200-1781715600@c2backflowservices.com
SUMMARY:8 Hour - Hands On Practical Skills ( 6/17) Forney
DESCRIPTION:Cost: $325\nClass Times: 8:00 AM – 5:00 PM
URL:https://c2backflowservices.com/course/8-hour-hands-on-practical-skills-6-17-forney/
LOCATION:Talty SUD\, 12475 Windy Ln\, Forney\, TX\, United States
END:VEVENT
BEGIN:VEVENT
DTSTART;TZID=America/Chicago:20260618T080000
DTEND;TZID=America/Chicago:20260618T170000
DTSTAMP:20260425T055620
CREATED:20260411T114318Z
LAST-MODIFIED:20260411T120728Z
UID:10002032-1781769600-1781802000@c2backflowservices.com
SUMMARY:8 Hour - Hands On Practical Skills ( 6/18) Forney
DESCRIPTION:Cost: $325\nClass Times: 8:00 AM – 5:00 PM
URL:https://c2backflowservices.com/course/8-hour-hands-on-practical-skills-6-18-forney/
LOCATION:Talty SUD\, 12475 Windy Ln\, Forney\, TX\, United States
END:VEVENT
BEGIN:VEVENT
DTSTART;TZID=America/Chicago:20260622T080000
DTEND;TZID=America/Chicago:20260626T170000
DTSTAMP:20260425T055620
CREATED:20260411T112404Z
LAST-MODIFIED:20260411T112404Z
UID:10002025-1782115200-1782493200@c2backflowservices.com
SUMMARY:40 Hour - Backflow Prevention Assembly Tester Course ( 6/22-26) Austin
DESCRIPTION:Cost: $750\nClass Times: 8:00 AM – 5:00 PM
URL:https://c2backflowservices.com/course/40-hour-backflow-prevention-assembly-tester-course-6-22-26-austin/
LOCATION:Firetrol Protection Systems\, 4616 W\, Howard Ln Ste\, 7-700\, Austin\, TX\, 78728\, United States
END:VEVENT
END:VCALENDAR