BEGIN:VCALENDAR
VERSION:2.0
PRODID:-//C2 Backflow Services - ECPv6.15.17.1//NONSGML v1.0//EN
CALSCALE:GREGORIAN
METHOD:PUBLISH
X-WR-CALNAME:C2 Backflow Services
X-ORIGINAL-URL:https://c2backflowservices.com
X-WR-CALDESC:Events for C2 Backflow Services
REFRESH-INTERVAL;VALUE=DURATION:PT1H
X-Robots-Tag:noindex
X-PUBLISHED-TTL:PT1H
BEGIN:VTIMEZONE
TZID:America/Chicago
BEGIN:DAYLIGHT
TZOFFSETFROM:-0600
TZOFFSETTO:-0500
TZNAME:CDT
DTSTART:20240310T080000
END:DAYLIGHT
BEGIN:STANDARD
TZOFFSETFROM:-0500
TZOFFSETTO:-0600
TZNAME:CST
DTSTART:20241103T070000
END:STANDARD
BEGIN:DAYLIGHT
TZOFFSETFROM:-0600
TZOFFSETTO:-0500
TZNAME:CDT
DTSTART:20250309T080000
END:DAYLIGHT
BEGIN:STANDARD
TZOFFSETFROM:-0500
TZOFFSETTO:-0600
TZNAME:CST
DTSTART:20251102T070000
END:STANDARD
BEGIN:DAYLIGHT
TZOFFSETFROM:-0600
TZOFFSETTO:-0500
TZNAME:CDT
DTSTART:20260308T080000
END:DAYLIGHT
BEGIN:STANDARD
TZOFFSETFROM:-0500
TZOFFSETTO:-0600
TZNAME:CST
DTSTART:20261101T070000
END:STANDARD
END:VTIMEZONE
BEGIN:VEVENT
DTSTART;TZID=America/Chicago:20250210T080000
DTEND;TZID=America/Chicago:20250211T170000
DTSTAMP:20260425T104727
CREATED:20241205T034334Z
LAST-MODIFIED:20250302T202120Z
UID:10000036-1739174400-1739293200@c2backflowservices.com
SUMMARY:16 Hour - Customer Service Inspector Course (2/10-2/11)
DESCRIPTION:Course # 0606 \nClass Times: 8:00 am – 5:00 pm \nCost – $300 Payment is due at registration. Course Book can not be mailed until registration and payment is complete. \nThis course awards 16 hours ceu’s towards the BPAT\, CSI\, water operator licenses as well as awarding 10 hours ceu’s towards obtaining the CSI license
URL:https://c2backflowservices.com/course/16-hour-customer-service-inspector-course-2-10-2-11/
LOCATION:ONLINE
END:VEVENT
BEGIN:VEVENT
DTSTART;TZID=America/Chicago:20250207T080000
DTEND;TZID=America/Chicago:20250207T170000
DTSTAMP:20260425T104727
CREATED:20241205T033354Z
LAST-MODIFIED:20241205T034714Z
UID:10000035-1738915200-1738947600@c2backflowservices.com
SUMMARY:Practical Skills Exam ONLY
DESCRIPTION:Course # 1350 \nClass Times: 8:00 am – 5:00 pm \nCost – $300 Payment is due at registration.
URL:https://c2backflowservices.com/course/practical-skills-exam-only/
LOCATION:Talty SUD\, 12475 Windy Ln\, Forney\, TX\, United States
END:VEVENT
BEGIN:VEVENT
DTSTART;TZID=America/Chicago:20250203T080000
DTEND;TZID=America/Chicago:20250207T170000
DTSTAMP:20260425T104727
CREATED:20241205T032911Z
LAST-MODIFIED:20250126T170405Z
UID:10000031-1738569600-1738947600@c2backflowservices.com
SUMMARY:40 Hour - Backflow Prevention Assembly Tester Course ( 2/3 - 2/7) Forney
DESCRIPTION:Course # 1200 \nClass Times: 8:00 am – 5:00 pm \nCost – $675 Payment is due at registration.
URL:https://c2backflowservices.com/course/40-hour-backflow-prevention-assembly-tester-course-2-3-2-7/
LOCATION:Talty SUD\, 12475 Windy Ln\, Forney\, TX\, United States
END:VEVENT
END:VCALENDAR