BEGIN:VCALENDAR
VERSION:2.0
PRODID:-//C2 Backflow Services - ECPv6.15.17.1//NONSGML v1.0//EN
CALSCALE:GREGORIAN
METHOD:PUBLISH
X-WR-CALNAME:C2 Backflow Services
X-ORIGINAL-URL:https://c2backflowservices.com
X-WR-CALDESC:Events for C2 Backflow Services
REFRESH-INTERVAL;VALUE=DURATION:PT1H
X-Robots-Tag:noindex
X-PUBLISHED-TTL:PT1H
BEGIN:VTIMEZONE
TZID:America/Chicago
BEGIN:DAYLIGHT
TZOFFSETFROM:-0600
TZOFFSETTO:-0500
TZNAME:CDT
DTSTART:20240310T080000
END:DAYLIGHT
BEGIN:STANDARD
TZOFFSETFROM:-0500
TZOFFSETTO:-0600
TZNAME:CST
DTSTART:20241103T070000
END:STANDARD
BEGIN:DAYLIGHT
TZOFFSETFROM:-0600
TZOFFSETTO:-0500
TZNAME:CDT
DTSTART:20250309T080000
END:DAYLIGHT
BEGIN:STANDARD
TZOFFSETFROM:-0500
TZOFFSETTO:-0600
TZNAME:CST
DTSTART:20251102T070000
END:STANDARD
BEGIN:DAYLIGHT
TZOFFSETFROM:-0600
TZOFFSETTO:-0500
TZNAME:CDT
DTSTART:20260308T080000
END:DAYLIGHT
BEGIN:STANDARD
TZOFFSETFROM:-0500
TZOFFSETTO:-0600
TZNAME:CST
DTSTART:20261101T070000
END:STANDARD
END:VTIMEZONE
BEGIN:VEVENT
DTSTART;TZID=America/Chicago:20250716T080000
DTEND;TZID=America/Chicago:20250716T170000
DTSTAMP:20260425T074629
CREATED:20250501T215002Z
LAST-MODIFIED:20250501T215002Z
UID:10001930-1752652800-1752685200@c2backflowservices.com
SUMMARY:8 Hour - Hands On Practical Skills Course ( 7/16) Round Rock
DESCRIPTION:Cost: $275 \nClass Times: 8:00 AM – 5:00 PM
URL:https://c2backflowservices.com/course/8-hour-hands-on-practical-skills-course-7-16-round-rock/
LOCATION:La Quinta Inn & Suites – Round Rock\, 3900 E. Palm Valley Blvd.\, Round Rock\, TX\, 78665\, United States
END:VEVENT
BEGIN:VEVENT
DTSTART;TZID=America/Chicago:20250715T080000
DTEND;TZID=America/Chicago:20250717T170000
DTSTAMP:20260425T074629
CREATED:20250320T212044Z
LAST-MODIFIED:20250630T213526Z
UID:10001925-1752566400-1752771600@c2backflowservices.com
SUMMARY:24 Hour - BPAT Renewal (7/15 - 7/17) Round Rock
DESCRIPTION:Class Time: 8:00 AM – 5:00 PM \nCost: $575 \nPayment is due upon registration
URL:https://c2backflowservices.com/course/24-hour-bpat-renewal-7-15-7-17-round-rock/
LOCATION:La Quinta Inn & Suites – Round Rock\, 3900 E. Palm Valley Blvd.\, Round Rock\, TX\, 78665\, United States
END:VEVENT
BEGIN:VEVENT
DTSTART;TZID=America/Chicago:20250715T080000
DTEND;TZID=America/Chicago:20250715T170000
DTSTAMP:20260425T074629
CREATED:20250501T214757Z
LAST-MODIFIED:20250501T214757Z
UID:10001929-1752566400-1752598800@c2backflowservices.com
SUMMARY:8 Hour - Hands On Practical Skills Course ( 7/15) Round Rock
DESCRIPTION:Cost : $275 \nClass Times: 8:00 AM – 5:00 PM
URL:https://c2backflowservices.com/course/8-hour-hands-on-practical-skills-course-7-15-round-rock/
LOCATION:La Quinta Inn & Suites – Round Rock\, 3900 E. Palm Valley Blvd.\, Round Rock\, TX\, 78665\, United States
END:VEVENT
BEGIN:VEVENT
DTSTART;TZID=America/Chicago:20250714T080000
DTEND;TZID=America/Chicago:20250718T170000
DTSTAMP:20260425T074629
CREATED:20250501T214451Z
LAST-MODIFIED:20250501T214451Z
UID:10001928-1752480000-1752858000@c2backflowservices.com
SUMMARY:40 Hour - Backflow Prevention Assembly Tester Course (7/14-18) Round Rock
DESCRIPTION:Cost : $675 \nClass Times : 8:00 AM – 5:00 PM
URL:https://c2backflowservices.com/course/40-hour-backflow-prevention-assembly-tester-course-7-14-18-round-rock/
LOCATION:La Quinta Inn & Suites – Round Rock\, 3900 E. Palm Valley Blvd.\, Round Rock\, TX\, 78665\, United States
END:VEVENT
BEGIN:VEVENT
DTSTART;TZID=America/Chicago:20250707T080000
DTEND;TZID=America/Chicago:20250707T170000
DTSTAMP:20260425T074629
CREATED:20250616T131113Z
LAST-MODIFIED:20250616T131113Z
UID:10001947-1751875200-1751907600@c2backflowservices.com
SUMMARY:8 Hour - Rules and Regulation relating to Backflow Prevention (7/7)
DESCRIPTION:Cost: $200 \nClass Times: 8:00 AM – 5:00 PM
URL:https://c2backflowservices.com/course/8-hour-rules-and-regulation-relating-to-backflow-prevention-7-7/
LOCATION:ONLINE
END:VEVENT
BEGIN:VEVENT
DTSTART;TZID=America/Chicago:20250702T080000
DTEND;TZID=America/Chicago:20250702T170000
DTSTAMP:20260425T074629
CREATED:20250617T183608Z
LAST-MODIFIED:20250629T124605Z
UID:10001948-1751443200-1751475600@c2backflowservices.com
SUMMARY:8 Hour - Confined Space Safety (7/2)
DESCRIPTION:Cost: $250 \nClass Times: 8:00 AM – 5:00 PM
URL:https://c2backflowservices.com/course/8-hour-confined-space-safety-7-2/
LOCATION:ONLINE
END:VEVENT
BEGIN:VEVENT
DTSTART;TZID=America/Chicago:20250519T080000
DTEND;TZID=America/Chicago:20250519T163000
DTSTAMP:20260425T074629
CREATED:20250314T015807Z
LAST-MODIFIED:20250319T013846Z
UID:10001920-1747641600-1747672200@c2backflowservices.com
SUMMARY:8 Hour Confined Space Safety (5/19) Online
DESCRIPTION:Cost $250 \nClass Times 8:00 AM – 4:30 PM \nThis course awards 8 hrs CEU’s for BPAT\, LI\, Water and Wastewater Operator\, and OSSF licenses.
URL:https://c2backflowservices.com/course/8-hour-confined-space-safety-5-19-online/
LOCATION:ONLINE
END:VEVENT
BEGIN:VEVENT
DTSTART;TZID=America/Chicago:20250516T080000
DTEND;TZID=America/Chicago:20250516T170000
DTSTAMP:20260425T074629
CREATED:20241218T215845Z
LAST-MODIFIED:20241218T215845Z
UID:10001898-1747382400-1747414800@c2backflowservices.com
SUMMARY:BPAT Practical Skills Exam Only (5/16)
DESCRIPTION:Course #1350 \nPayment is due at registration \nCost $300
URL:https://c2backflowservices.com/course/bpat-practical-skills-exam-only-5-16/
LOCATION:La Quinta Inn & Suites – Round Rock\, 3900 E. Palm Valley Blvd.\, Round Rock\, TX\, 78665\, United States
END:VEVENT
BEGIN:VEVENT
DTSTART;TZID=America/Chicago:20250515T080000
DTEND;TZID=America/Chicago:20250515T170000
DTSTAMP:20260425T074629
CREATED:20241218T215702Z
LAST-MODIFIED:20250320T203726Z
UID:10001897-1747296000-1747328400@c2backflowservices.com
SUMMARY:8 Hour - Hands On Practical Skills ( 5/15) Round Rock
DESCRIPTION:Course #1201 \nPayment is due at registration \nCost $275
URL:https://c2backflowservices.com/course/8-hour-hands-on-practical-skills-5-15/
LOCATION:La Quinta Inn & Suites – Round Rock\, 3900 E. Palm Valley Blvd.\, Round Rock\, TX\, 78665\, United States
END:VEVENT
BEGIN:VEVENT
DTSTART;TZID=America/Chicago:20250514T080000
DTEND;TZID=America/Chicago:20250514T170000
DTSTAMP:20260425T074629
CREATED:20241218T215543Z
LAST-MODIFIED:20250320T203819Z
UID:10001896-1747209600-1747242000@c2backflowservices.com
SUMMARY:8 Hour - Hands On Practical Skills (5/14) Round Rock
DESCRIPTION:Course #1201 \nPayment is due at registration \nCost $275
URL:https://c2backflowservices.com/course/8-hour-hands-on-practical-skills-5-14/
LOCATION:La Quinta Inn & Suites – Round Rock\, 3900 E. Palm Valley Blvd.\, Round Rock\, TX\, 78665\, United States
END:VEVENT
BEGIN:VEVENT
DTSTART;TZID=America/Chicago:20250513T080000
DTEND;TZID=America/Chicago:20250515T170000
DTSTAMP:20260425T074629
CREATED:20250108T223659Z
LAST-MODIFIED:20250320T203612Z
UID:10001906-1747123200-1747328400@c2backflowservices.com
SUMMARY:24 Hour BPAT Renewal ( 5/13 - 5/15) Round Rock
DESCRIPTION:Payment is due at registration \nCost $575
URL:https://c2backflowservices.com/course/24-hour-bpat-renewal-5-13-5-15/
LOCATION:La Quinta Inn & Suites – Round Rock\, 3900 E. Palm Valley Blvd.\, Round Rock\, TX\, 78665\, United States
END:VEVENT
BEGIN:VEVENT
DTSTART;TZID=America/Chicago:20250513T080000
DTEND;TZID=America/Chicago:20250513T170000
DTSTAMP:20260425T074629
CREATED:20241218T215409Z
LAST-MODIFIED:20250320T203909Z
UID:10001895-1747123200-1747155600@c2backflowservices.com
SUMMARY:8 Hour - Hands On Practical Skills ( 5/13) Round Rock
DESCRIPTION:Course # 1201 \nPayment is due at registration \nCost $275
URL:https://c2backflowservices.com/course/8-hour-hands-on-practical-skills-5-13/
LOCATION:La Quinta Inn & Suites – Round Rock\, 3900 E. Palm Valley Blvd.\, Round Rock\, TX\, 78665\, United States
END:VEVENT
BEGIN:VEVENT
DTSTART;TZID=America/Chicago:20250512T080000
DTEND;TZID=America/Chicago:20250516T170000
DTSTAMP:20260425T074629
CREATED:20241218T215233Z
LAST-MODIFIED:20250428T170950Z
UID:10001894-1747036800-1747414800@c2backflowservices.com
SUMMARY:40 Hour - Backflow Prevention Assembly Tester Course (5/12-16) Round Rock
DESCRIPTION:Course # 1200 \nPayment due at registration. \nCost $675
URL:https://c2backflowservices.com/course/40-hour-backflow-prevention-assembly-tester-course-5-12-16/
LOCATION:La Quinta Inn & Suites – Round Rock\, 3900 E. Palm Valley Blvd.\, Round Rock\, TX\, 78665\, United States
END:VEVENT
BEGIN:VEVENT
DTSTART;TZID=America/Chicago:20250508T080000
DTEND;TZID=America/Chicago:20250508T170000
DTSTAMP:20260425T074629
CREATED:20250124T001622Z
LAST-MODIFIED:20250320T204547Z
UID:10001911-1746691200-1746723600@c2backflowservices.com
SUMMARY:8 Hour - Hands On Practical Skills ( 5/8) Frisco
DESCRIPTION:Course #1201 \nCost $275 \nPayment is due at registration
URL:https://c2backflowservices.com/course/8-hour-hands-on-practical-skills-5-8/
LOCATION:City of Frisco – Public Works\, 11300 Research Rd.\, Frisco\, TX\, 75033\, United States
END:VEVENT
BEGIN:VEVENT
DTSTART;TZID=America/Chicago:20250507T080000
DTEND;TZID=America/Chicago:20250507T170000
DTSTAMP:20260425T074629
CREATED:20250124T000956Z
LAST-MODIFIED:20250320T204632Z
UID:10001909-1746604800-1746637200@c2backflowservices.com
SUMMARY:8 Hour - Hands On Practical Skills ( 5/7) Frisco
DESCRIPTION:Course # 1201 \nCost $275 \nPayment is due at registration
URL:https://c2backflowservices.com/course/8-hour-hands-on-practical-skills-5-6/
LOCATION:City of Frisco – Public Works\, 11300 Research Rd.\, Frisco\, TX\, 75033\, United States
END:VEVENT
BEGIN:VEVENT
DTSTART;TZID=America/Chicago:20250506T080000
DTEND;TZID=America/Chicago:20250508T170000
DTSTAMP:20260425T074629
CREATED:20250124T000620Z
LAST-MODIFIED:20250328T121004Z
UID:10001908-1746518400-1746723600@c2backflowservices.com
SUMMARY:24 Hour BPAT Renewal ( 5/6 - 5/8) Frisco
DESCRIPTION:Payment is due at registration. \nCost $575
URL:https://c2backflowservices.com/course/24-hour-bpat-renewal-5-6-5-8/
LOCATION:City of Frisco – Public Works\, 11300 Research Rd.\, Frisco\, TX\, 75033\, United States
END:VEVENT
BEGIN:VEVENT
DTSTART;TZID=America/Chicago:20250506T080000
DTEND;TZID=America/Chicago:20250506T170000
DTSTAMP:20260425T074629
CREATED:20250124T001405Z
LAST-MODIFIED:20250320T204722Z
UID:10001910-1746518400-1746550800@c2backflowservices.com
SUMMARY:8 Hour - Hands On Practical Skills ( 5/6) Frisco
DESCRIPTION:Course #1201 \nCost $275 \nPayment is due at registration
URL:https://c2backflowservices.com/course/8-hour-hands-on-practical-skills-5-6-2/
LOCATION:City of Frisco – Public Works\, 11300 Research Rd.\, Frisco\, TX\, 75033\, United States
END:VEVENT
BEGIN:VEVENT
DTSTART;TZID=America/Chicago:20250505T080000
DTEND;TZID=America/Chicago:20250509T170000
DTSTAMP:20260425T074629
CREATED:20250124T000218Z
LAST-MODIFIED:20250415T023057Z
UID:10001907-1746432000-1746810000@c2backflowservices.com
SUMMARY:40 Hour - Backflow Prevention Assembly Tester Course (5/5-5/9) Frisco
DESCRIPTION:Course #1200 \nCost $675 \nPayment is due at registration
URL:https://c2backflowservices.com/course/40-hour-backflow-prevention-assembly-tester-course-5-5-5-9/
LOCATION:City of Frisco – Public Works\, 11300 Research Rd.\, Frisco\, TX\, 75033\, United States
END:VEVENT
BEGIN:VEVENT
DTSTART;TZID=America/Chicago:20250428T080000
DTEND;TZID=America/Chicago:20250429T163000
DTSTAMP:20260425T074629
CREATED:20250306T231711Z
LAST-MODIFIED:20250326T155757Z
UID:10001919-1745827200-1745944200@c2backflowservices.com
SUMMARY:16 Hour - Customer Service Inspector (4/28-29)
DESCRIPTION:Cost : $300 \nClass Time: 8:00 AM – 4:30 PM \n 
URL:https://c2backflowservices.com/course/16-hour-customer-service-inspector-4-28-29/
LOCATION:ONLINE
END:VEVENT
BEGIN:VEVENT
DTSTART;TZID=America/Chicago:20250425T080000
DTEND;TZID=America/Chicago:20250425T170000
DTSTAMP:20260425T074629
CREATED:20250201T002506Z
LAST-MODIFIED:20250201T002506Z
UID:10001917-1745568000-1745600400@c2backflowservices.com
SUMMARY:BPAT Practical Skills Exam Only (4/25)
DESCRIPTION:Course #1350 \nPayment is due at registration \nCost $300
URL:https://c2backflowservices.com/course/bpat-practical-skills-exam-only-4-25/
LOCATION:Talty SUD\, 12475 Windy Ln\, Forney\, TX\, United States
END:VEVENT
BEGIN:VEVENT
DTSTART;TZID=America/Chicago:20250424T080000
DTEND;TZID=America/Chicago:20250424T170000
DTSTAMP:20260425T074629
CREATED:20250201T002045Z
LAST-MODIFIED:20250320T204928Z
UID:10001916-1745481600-1745514000@c2backflowservices.com
SUMMARY:8 Hour - Hands On Practical Skills ( 4/24) Forney
DESCRIPTION:Course #1201 \nPayment is due at registration \nCost $275
URL:https://c2backflowservices.com/course/8-hour-hands-on-practical-skills-4-24/
LOCATION:Talty SUD\, 12475 Windy Ln\, Forney\, TX\, United States
END:VEVENT
BEGIN:VEVENT
DTSTART;TZID=America/Chicago:20250423T080000
DTEND;TZID=America/Chicago:20250423T170000
DTSTAMP:20260425T074629
CREATED:20250201T001820Z
LAST-MODIFIED:20250320T205006Z
UID:10001915-1745395200-1745427600@c2backflowservices.com
SUMMARY:8 Hour - Hands On Practical Skills ( 4/23) Forney
DESCRIPTION:Course #1201 \nPayment is due at registration \nCost $275
URL:https://c2backflowservices.com/course/8-hour-hands-on-practical-skills-4-23/
LOCATION:Talty SUD\, 12475 Windy Ln\, Forney\, TX\, United States
END:VEVENT
BEGIN:VEVENT
DTSTART;TZID=America/Chicago:20250422T080000
DTEND;TZID=America/Chicago:20250424T170000
DTSTAMP:20260425T074629
CREATED:20250201T000753Z
LAST-MODIFIED:20250320T205132Z
UID:10001913-1745308800-1745514000@c2backflowservices.com
SUMMARY:24 Hour BPAT Renewal ( 4/22 - 24 ) Forney
DESCRIPTION:Payment is due at registration. \nCost $575
URL:https://c2backflowservices.com/course/24-hour-bpat-renewal-4-22-24/
LOCATION:Talty SUD\, 12475 Windy Ln\, Forney\, TX\, United States
END:VEVENT
BEGIN:VEVENT
DTSTART;TZID=America/Chicago:20250422T080000
DTEND;TZID=America/Chicago:20250422T170000
DTSTAMP:20260425T074629
CREATED:20250201T001037Z
LAST-MODIFIED:20250320T205040Z
UID:10001914-1745308800-1745341200@c2backflowservices.com
SUMMARY:8 Hour - Hands On Practical Skills ( 4/22) Forney
DESCRIPTION:Course #1201 \nPayment is due at registration \nCost $275
URL:https://c2backflowservices.com/course/8-hour-hands-on-practical-skills-4-22/
LOCATION:Talty SUD\, 12475 Windy Ln\, Forney\, TX\, United States
END:VEVENT
BEGIN:VEVENT
DTSTART;TZID=America/Chicago:20250421T080000
DTEND;TZID=America/Chicago:20250425T170000
DTSTAMP:20260425T074629
CREATED:20250201T000354Z
LAST-MODIFIED:20250201T000354Z
UID:10001912-1745222400-1745600400@c2backflowservices.com
SUMMARY:40 Hour - Backflow Prevention Assembly Tester Course (4/21-25) Forney
DESCRIPTION:Course # 1200 \nPayment due at registration. \nCost $675
URL:https://c2backflowservices.com/course/40-hour-backflow-prevention-assembly-tester-course-4-21-25-forney/
LOCATION:Talty SUD\, 12475 Windy Ln\, Forney\, TX\, United States
END:VEVENT
BEGIN:VEVENT
DTSTART;TZID=America/Chicago:20250414T080000
DTEND;TZID=America/Chicago:20250414T170000
DTSTAMP:20260425T074629
CREATED:20250218T232929Z
LAST-MODIFIED:20250319T014201Z
UID:10001918-1744617600-1744650000@c2backflowservices.com
SUMMARY:Rules and Regulations pertaining to Backflow ( 4/14 )
DESCRIPTION:Cost $200 \nClass Times 8 AM – 4:30 PM \nPayment is due upon registration
URL:https://c2backflowservices.com/course/rules-and-regulations-pertaining-to-backflow-4-14/
LOCATION:ONLINE
END:VEVENT
BEGIN:VEVENT
DTSTART;TZID=America/Chicago:20250404T080000
DTEND;TZID=America/Chicago:20250404T170000
DTSTAMP:20260425T074629
CREATED:20241205T171821Z
LAST-MODIFIED:20241218T214750Z
UID:10000055-1743753600-1743786000@c2backflowservices.com
SUMMARY:Practical Skills Exam ONLY (4/4)
DESCRIPTION:Course #1350 \nClass Times: 8:00 AM – 5:00 PM \nCost: $300  Payment due at registration
URL:https://c2backflowservices.com/course/practical-skills-exam-only-4-4/
LOCATION:Texas A&M Agrilife Center\, 1380 A&M Circle\, El Paso\, TX\, United States
END:VEVENT
BEGIN:VEVENT
DTSTART;TZID=America/Chicago:20250403T080000
DTEND;TZID=America/Chicago:20250403T170000
DTSTAMP:20260425T074629
CREATED:20241205T171712Z
LAST-MODIFIED:20250320T202724Z
UID:10000054-1743667200-1743699600@c2backflowservices.com
SUMMARY:8 Hour - Hands On Practical Skills (4/3)
DESCRIPTION:Course #1201 \nClass Times: 8:00 AM – 5:00 PM \nCost: $275  Payment due at registration
URL:https://c2backflowservices.com/course/8-hour-hands-on-practical-skills-4-3/
LOCATION:Texas A&M Agrilife Center\, 1380 A&M Circle\, El Paso\, TX\, United States
END:VEVENT
BEGIN:VEVENT
DTSTART;TZID=America/Chicago:20250402T080000
DTEND;TZID=America/Chicago:20250402T170000
DTSTAMP:20260425T074629
CREATED:20241205T171603Z
LAST-MODIFIED:20250320T202810Z
UID:10000053-1743580800-1743613200@c2backflowservices.com
SUMMARY:8 Hour - Hands On Practical Skills (4/2)
DESCRIPTION:Course #1201 \nClass Times: 8:00 AM – 5:00 PM \nCost: $275  Payment due at registration
URL:https://c2backflowservices.com/course/8-hour-hands-on-practical-skills-4-2/
LOCATION:Texas A&M Agrilife Center\, 1380 A&M Circle\, El Paso\, TX\, United States
END:VEVENT
BEGIN:VEVENT
DTSTART;TZID=America/Chicago:20250401T080000
DTEND;TZID=America/Chicago:20250403T170000
DTSTAMP:20260425T074629
CREATED:20250108T223534Z
LAST-MODIFIED:20250317T201452Z
UID:10001905-1743494400-1743699600@c2backflowservices.com
SUMMARY:24 Hour BPAT Renewal ( 4/1 - 4/3)
DESCRIPTION:Payment is due at registration \nCost $575
URL:https://c2backflowservices.com/course/24-hour-bpat-renewal-4-1-4-3/
LOCATION:Texas A&M Agrilife Center\, 1380 A&M Circle\, El Paso\, TX\, United States
END:VEVENT
END:VCALENDAR