BEGIN:VCALENDAR
VERSION:2.0
PRODID:-//C2 Backflow Services - ECPv6.15.17.1//NONSGML v1.0//EN
CALSCALE:GREGORIAN
METHOD:PUBLISH
X-WR-CALNAME:C2 Backflow Services
X-ORIGINAL-URL:https://c2backflowservices.com
X-WR-CALDESC:Events for C2 Backflow Services
REFRESH-INTERVAL;VALUE=DURATION:PT1H
X-Robots-Tag:noindex
X-PUBLISHED-TTL:PT1H
BEGIN:VTIMEZONE
TZID:America/Chicago
BEGIN:DAYLIGHT
TZOFFSETFROM:-0600
TZOFFSETTO:-0500
TZNAME:CDT
DTSTART:20240310T080000
END:DAYLIGHT
BEGIN:STANDARD
TZOFFSETFROM:-0500
TZOFFSETTO:-0600
TZNAME:CST
DTSTART:20241103T070000
END:STANDARD
BEGIN:DAYLIGHT
TZOFFSETFROM:-0600
TZOFFSETTO:-0500
TZNAME:CDT
DTSTART:20250309T080000
END:DAYLIGHT
BEGIN:STANDARD
TZOFFSETFROM:-0500
TZOFFSETTO:-0600
TZNAME:CST
DTSTART:20251102T070000
END:STANDARD
BEGIN:DAYLIGHT
TZOFFSETFROM:-0600
TZOFFSETTO:-0500
TZNAME:CDT
DTSTART:20260308T080000
END:DAYLIGHT
BEGIN:STANDARD
TZOFFSETFROM:-0500
TZOFFSETTO:-0600
TZNAME:CST
DTSTART:20261101T070000
END:STANDARD
END:VTIMEZONE
BEGIN:VEVENT
DTSTART;TZID=America/Chicago:20250811T080000
DTEND;TZID=America/Chicago:20250815T170000
DTSTAMP:20260424T222512
CREATED:20250619T171504Z
LAST-MODIFIED:20250619T172048Z
UID:10001949-1754899200-1755277200@c2backflowservices.com
SUMMARY:40 Hour - Backflow Prevention Assembly Tester (8/11-15)
DESCRIPTION:Cost: $675 \nClass Time: 8:00 AM – 5:00 PM
URL:https://c2backflowservices.com/course/40-hour-backflow-prevention-assembly-tester-8-11-15/
LOCATION:Talty SUD\, 12475 Windy Ln\, Forney\, TX\, United States
END:VEVENT
BEGIN:VEVENT
DTSTART;TZID=America/Chicago:20250812T080000
DTEND;TZID=America/Chicago:20250812T170000
DTSTAMP:20260424T222512
CREATED:20250619T171755Z
LAST-MODIFIED:20250619T171852Z
UID:10001950-1754985600-1755018000@c2backflowservices.com
SUMMARY:8 Hour - Hands On Practical Skills (8/12)
DESCRIPTION:Cost: $275 \nClass Times: 8:00 AM – 5:00 PM
URL:https://c2backflowservices.com/course/8-hour-hands-on-practical-skills-8-12/
LOCATION:Talty SUD\, 12475 Windy Ln\, Forney\, TX\, United States
END:VEVENT
BEGIN:VEVENT
DTSTART;TZID=America/Chicago:20250812T080000
DTEND;TZID=America/Chicago:20250814T170000
DTSTAMP:20260424T222512
CREATED:20250619T172805Z
LAST-MODIFIED:20250619T172805Z
UID:10001953-1754985600-1755190800@c2backflowservices.com
SUMMARY:24 Hour - BPAT Renewal (8/12-14)
DESCRIPTION:Cost:$575 \nClass Times: 8:00 AM – 5:00 PM
URL:https://c2backflowservices.com/course/24-hour-bpat-renewal-8-12-14/
LOCATION:Talty SUD\, 12475 Windy Ln\, Forney\, TX\, United States
END:VEVENT
BEGIN:VEVENT
DTSTART;TZID=America/Chicago:20250813T080000
DTEND;TZID=America/Chicago:20250813T170000
DTSTAMP:20260424T222512
CREATED:20250619T172331Z
LAST-MODIFIED:20250619T172331Z
UID:10001951-1755072000-1755104400@c2backflowservices.com
SUMMARY:8 Hour - Hands On Practical Skills (8/13)
DESCRIPTION:Cost: $275 \nClass Times: 8:00 AM – 5:00 PM
URL:https://c2backflowservices.com/course/8-hour-hands-on-practical-skills-8-13/
LOCATION:Talty SUD\, 12475 Windy Ln\, Forney\, TX\, United States
END:VEVENT
BEGIN:VEVENT
DTSTART;TZID=America/Chicago:20250814T080000
DTEND;TZID=America/Chicago:20250814T170000
DTSTAMP:20260424T222512
CREATED:20250619T172531Z
LAST-MODIFIED:20250619T172531Z
UID:10001952-1755158400-1755190800@c2backflowservices.com
SUMMARY:8 Hour - Hands On Practical Skills (8/14)
DESCRIPTION:Cost: $275 \nClass Times: 8:00 AM – 5:00 PM
URL:https://c2backflowservices.com/course/8-hour-hands-on-practical-skills-8-14/
LOCATION:Talty SUD\, 12475 Windy Ln\, Forney\, TX\, United States
END:VEVENT
BEGIN:VEVENT
DTSTART;TZID=America/Chicago:20250825T080000
DTEND;TZID=America/Chicago:20250826T170000
DTSTAMP:20260424T222512
CREATED:20250523T222803Z
LAST-MODIFIED:20250523T230558Z
UID:10001940-1756108800-1756227600@c2backflowservices.com
SUMMARY:16 Hour - Customer Service Inspector (8/25-26)
DESCRIPTION:Cost: $300\nClass Times : 8:00 AM – 5:00 PM
URL:https://c2backflowservices.com/course/16-hour-customer-service-inspector-8-11-12/
LOCATION:ONLINE
END:VEVENT
BEGIN:VEVENT
DTSTART;TZID=America/Chicago:20250827T080000
DTEND;TZID=America/Chicago:20250827T170000
DTSTAMP:20260424T222512
CREATED:20250523T223905Z
LAST-MODIFIED:20250523T230220Z
UID:10001941-1756281600-1756314000@c2backflowservices.com
SUMMARY:8 Hour - Confined Space Safety  (8/27)
DESCRIPTION:Cost: $250\nClass Times: 8:00 AM – 5:00 PM
URL:https://c2backflowservices.com/course/8-hour-confined-space-safety-8-13/
LOCATION:ONLINE
END:VEVENT
END:VCALENDAR