BEGIN:VCALENDAR
VERSION:2.0
PRODID:-//C2 Backflow Services - ECPv6.15.17.1//NONSGML v1.0//EN
CALSCALE:GREGORIAN
METHOD:PUBLISH
X-ORIGINAL-URL:https://c2backflowservices.com
X-WR-CALDESC:Events for C2 Backflow Services
REFRESH-INTERVAL;VALUE=DURATION:PT1H
X-Robots-Tag:noindex
X-PUBLISHED-TTL:PT1H
BEGIN:VTIMEZONE
TZID:America/Chicago
BEGIN:DAYLIGHT
TZOFFSETFROM:-0600
TZOFFSETTO:-0500
TZNAME:CDT
DTSTART:20240310T080000
END:DAYLIGHT
BEGIN:STANDARD
TZOFFSETFROM:-0500
TZOFFSETTO:-0600
TZNAME:CST
DTSTART:20241103T070000
END:STANDARD
BEGIN:DAYLIGHT
TZOFFSETFROM:-0600
TZOFFSETTO:-0500
TZNAME:CDT
DTSTART:20250309T080000
END:DAYLIGHT
BEGIN:STANDARD
TZOFFSETFROM:-0500
TZOFFSETTO:-0600
TZNAME:CST
DTSTART:20251102T070000
END:STANDARD
BEGIN:DAYLIGHT
TZOFFSETFROM:-0600
TZOFFSETTO:-0500
TZNAME:CDT
DTSTART:20260308T080000
END:DAYLIGHT
BEGIN:STANDARD
TZOFFSETFROM:-0500
TZOFFSETTO:-0600
TZNAME:CST
DTSTART:20261101T070000
END:STANDARD
END:VTIMEZONE
BEGIN:VEVENT
DTSTART;TZID=America/Chicago:20251107T080000
DTEND;TZID=America/Chicago:20251107T170000
DTSTAMP:20260424T165358
CREATED:20250930T014046Z
LAST-MODIFIED:20250930T014123Z
UID:10001971-1762502400-1762534800@c2backflowservices.com
SUMMARY:8 Hour - Hands On Practical Skills (11/7)
DESCRIPTION:Class Time: 8:00 AM – 5:00 PM\nCost: $325
URL:https://c2backflowservices.com/course/8-hour-hands-on-practical-skills-11-7/
LOCATION:AFPG\, 12440 Highway 155 South\, Tyler\, TX\, 75703\, United States
END:VEVENT
BEGIN:VEVENT
DTSTART;TZID=America/Chicago:20251110T080000
DTEND;TZID=America/Chicago:20251114T170000
DTSTAMP:20260424T165358
CREATED:20251101T023833Z
LAST-MODIFIED:20251101T024637Z
UID:10001973-1762761600-1763139600@c2backflowservices.com
SUMMARY:40 Hour - Backflow Prevention Assembly Tester Course ( 11/10-14)
DESCRIPTION:Cost: $750\nClass Times: 8:00 AM – 5:00 PM
URL:https://c2backflowservices.com/course/40-hour-backflow-prevention-assembly-tester-course-11-10-14/
LOCATION:Talty SUD\, 12475 Windy Ln\, Forney\, TX\, United States
END:VEVENT
BEGIN:VEVENT
DTSTART;TZID=America/Chicago:20251111T080000
DTEND;TZID=America/Chicago:20251111T170000
DTSTAMP:20260424T165358
CREATED:20251101T024038Z
LAST-MODIFIED:20251101T024038Z
UID:10001974-1762848000-1762880400@c2backflowservices.com
SUMMARY:8 Hour - Hands On Practical Skills (11/11)
DESCRIPTION:Cost: $325\nClass Times: 8:00 AM – 5:00 PM
URL:https://c2backflowservices.com/course/8-hour-hands-on-practical-skills-11-11/
LOCATION:Talty SUD\, 12475 Windy Ln\, Forney\, TX\, United States
END:VEVENT
BEGIN:VEVENT
DTSTART;TZID=America/Chicago:20251111T080000
DTEND;TZID=America/Chicago:20251113T170000
DTSTAMP:20260424T165358
CREATED:20251101T024550Z
LAST-MODIFIED:20251101T024550Z
UID:10001977-1762848000-1763053200@c2backflowservices.com
SUMMARY:24 Hour - BPAT Renewal CEU's (11/11-13)
DESCRIPTION:Cost: $650\nClass Times: 8:00 AM – 5:00 PM
URL:https://c2backflowservices.com/course/24-hour-bpat-renewal-ceus-11-11-13/
LOCATION:Talty SUD\, 12475 Windy Ln\, Forney\, TX\, United States
END:VEVENT
BEGIN:VEVENT
DTSTART;TZID=America/Chicago:20251112T080000
DTEND;TZID=America/Chicago:20251112T170000
DTSTAMP:20260424T165358
CREATED:20251101T024224Z
LAST-MODIFIED:20251210T032121Z
UID:10001975-1762934400-1762966800@c2backflowservices.com
SUMMARY:8 Hour - Hands On Practical Skills (11/12)
DESCRIPTION:Cost: $325\nClass Times: 8:00 AM – 5:00 PM
URL:https://c2backflowservices.com/course/8-hour-hands-on-practical-skills-11-12/
LOCATION:Talty SUD\, 12475 Windy Ln\, Forney\, TX\, United States
END:VEVENT
BEGIN:VEVENT
DTSTART;TZID=America/Chicago:20251113T080000
DTEND;TZID=America/Chicago:20251113T170000
DTSTAMP:20260424T165358
CREATED:20251101T024345Z
LAST-MODIFIED:20251111T005109Z
UID:10001976-1763020800-1763053200@c2backflowservices.com
SUMMARY:8 Hour - Hands On Practical Skills (11/13)
DESCRIPTION:Cost: $325\nClass Times: 8:00 AM – 5:00 PM
URL:https://c2backflowservices.com/course/8-hour-hands-on-practical-skills-11-13/
LOCATION:Talty SUD\, 12475 Windy Ln\, Forney\, TX\, United States
END:VEVENT
BEGIN:VEVENT
DTSTART;TZID=America/Chicago:20251117T080000
DTEND;TZID=America/Chicago:20251118T170000
DTSTAMP:20260424T165358
CREATED:20251031T021224Z
LAST-MODIFIED:20251113T213539Z
UID:10001972-1763366400-1763485200@c2backflowservices.com
SUMMARY:16 Hour - Customer Service Inspector Course ( 11/17-18 )
DESCRIPTION:Course Code #606\nClass Times: 8:00 AM – 5:00 PM\nCost: $300
URL:https://c2backflowservices.com/course/16-hour-customer-service-inspector-course-11-17-18/
LOCATION:ONLINE
END:VEVENT
BEGIN:VEVENT
DTSTART;TZID=America/Chicago:20251120T080000
DTEND;TZID=America/Chicago:20251120T163000
DTSTAMP:20260424T165358
CREATED:20251112T022645Z
LAST-MODIFIED:20251112T023153Z
UID:10001978-1763625600-1763656200@c2backflowservices.com
SUMMARY:8 Hour - Confined Space Safety (11/20)
DESCRIPTION:Cost: $250\nClass Times: 8:00 AM – 4:30 PM
URL:https://c2backflowservices.com/course/8-hour-confined-space-safety-11-20/
LOCATION:ONLINE
END:VEVENT
END:VCALENDAR