BEGIN:VCALENDAR
VERSION:2.0
PRODID:-//C2 Backflow Services - ECPv6.15.17.1//NONSGML v1.0//EN
CALSCALE:GREGORIAN
METHOD:PUBLISH
X-WR-CALNAME:C2 Backflow Services
X-ORIGINAL-URL:https://c2backflowservices.com
X-WR-CALDESC:Events for C2 Backflow Services
REFRESH-INTERVAL;VALUE=DURATION:PT1H
X-Robots-Tag:noindex
X-PUBLISHED-TTL:PT1H
BEGIN:VTIMEZONE
TZID:America/Chicago
BEGIN:DAYLIGHT
TZOFFSETFROM:-0600
TZOFFSETTO:-0500
TZNAME:CDT
DTSTART:20250309T080000
END:DAYLIGHT
BEGIN:STANDARD
TZOFFSETFROM:-0500
TZOFFSETTO:-0600
TZNAME:CST
DTSTART:20251102T070000
END:STANDARD
BEGIN:DAYLIGHT
TZOFFSETFROM:-0600
TZOFFSETTO:-0500
TZNAME:CDT
DTSTART:20260308T080000
END:DAYLIGHT
BEGIN:STANDARD
TZOFFSETFROM:-0500
TZOFFSETTO:-0600
TZNAME:CST
DTSTART:20261101T070000
END:STANDARD
BEGIN:DAYLIGHT
TZOFFSETFROM:-0600
TZOFFSETTO:-0500
TZNAME:CDT
DTSTART:20270314T080000
END:DAYLIGHT
BEGIN:STANDARD
TZOFFSETFROM:-0500
TZOFFSETTO:-0600
TZNAME:CST
DTSTART:20271107T070000
END:STANDARD
END:VTIMEZONE
BEGIN:VEVENT
DTSTART;TZID=America/Chicago:20260115T080000
DTEND;TZID=America/Chicago:20260115T170000
DTSTAMP:20260424T120818
CREATED:20251211T221039Z
LAST-MODIFIED:20251211T221313Z
UID:10002008-1768464000-1768496400@c2backflowservices.com
SUMMARY:Lone Star Irrigation Association EXPO
DESCRIPTION:
URL:https://c2backflowservices.com/course/lone-star-irrigation-association-expo/
LOCATION:Hurst Conference Center\, 1601 Campus Drive\, Hurst\, 76054
END:VEVENT
BEGIN:VEVENT
DTSTART;TZID=America/Chicago:20260119T080000
DTEND;TZID=America/Chicago:20260120T170000
DTSTAMP:20260424T120818
CREATED:20251210T155540Z
LAST-MODIFIED:20251210T155540Z
UID:10002005-1768809600-1768928400@c2backflowservices.com
SUMMARY:16 Hour - Customer Service Inspector (1/19-20)
DESCRIPTION:Cost: $300\nClass Times: 8:00 AM – 5:00 PM
URL:https://c2backflowservices.com/course/16-hour-customer-service-inspector-1-19-20/
LOCATION:ONLINE
END:VEVENT
BEGIN:VEVENT
DTSTART;TZID=America/Chicago:20260129T080000
DTEND;TZID=America/Chicago:20260129T170000
DTSTAMP:20260424T120818
CREATED:20251211T221735Z
LAST-MODIFIED:20251211T221735Z
UID:10002009-1769673600-1769706000@c2backflowservices.com
SUMMARY:Dallas Irrigation Association EXPO
DESCRIPTION:
URL:https://c2backflowservices.com/course/dallas-irrigation-association-expo/
LOCATION:Plano Event Center\, 2000 E. Spring Creek Parkway\, Plano\, TX\, 75074\, United States
END:VEVENT
BEGIN:VEVENT
DTSTART;TZID=America/Chicago:20260130T080000
DTEND;TZID=America/Chicago:20260130T170000
DTSTAMP:20260424T120818
CREATED:20251210T020712Z
LAST-MODIFIED:20251210T020712Z
UID:10001979-1769760000-1769792400@c2backflowservices.com
SUMMARY:8 Hour - Hands On Practical Skills Course ( 1/30)
DESCRIPTION:Couse # 1201\nCost: $325\nClass Times: 8:00 AM – 5:00 PM
URL:https://c2backflowservices.com/course/8-hour-hands-on-practical-skills-course-1-30/
LOCATION:Talty SUD\, 12475 Windy Ln\, Forney\, TX\, United States
END:VEVENT
BEGIN:VEVENT
DTSTART;TZID=America/Chicago:20260130T080000
DTEND;TZID=America/Chicago:20260130T170000
DTSTAMP:20260424T120818
CREATED:20251210T021105Z
LAST-MODIFIED:20251210T021105Z
UID:10001980-1769760000-1769792400@c2backflowservices.com
SUMMARY:Hands on Practical Skills Exam (1/30)
DESCRIPTION:Cost $300\nCourse #1350
URL:https://c2backflowservices.com/course/hands-on-practical-skills-exam-1-30/
LOCATION:Talty SUD\, 12475 Windy Ln\, Forney\, TX\, United States
END:VEVENT
END:VCALENDAR