BEGIN:VCALENDAR
VERSION:2.0
PRODID:-//C2 Backflow Services - ECPv6.15.17.1//NONSGML v1.0//EN
CALSCALE:GREGORIAN
METHOD:PUBLISH
X-ORIGINAL-URL:https://c2backflowservices.com
X-WR-CALDESC:Events for C2 Backflow Services
REFRESH-INTERVAL;VALUE=DURATION:PT1H
X-Robots-Tag:noindex
X-PUBLISHED-TTL:PT1H
BEGIN:VTIMEZONE
TZID:America/Chicago
BEGIN:DAYLIGHT
TZOFFSETFROM:-0600
TZOFFSETTO:-0500
TZNAME:CDT
DTSTART:20250309T080000
END:DAYLIGHT
BEGIN:STANDARD
TZOFFSETFROM:-0500
TZOFFSETTO:-0600
TZNAME:CST
DTSTART:20251102T070000
END:STANDARD
BEGIN:DAYLIGHT
TZOFFSETFROM:-0600
TZOFFSETTO:-0500
TZNAME:CDT
DTSTART:20260308T080000
END:DAYLIGHT
BEGIN:STANDARD
TZOFFSETFROM:-0500
TZOFFSETTO:-0600
TZNAME:CST
DTSTART:20261101T070000
END:STANDARD
BEGIN:DAYLIGHT
TZOFFSETFROM:-0600
TZOFFSETTO:-0500
TZNAME:CDT
DTSTART:20270314T080000
END:DAYLIGHT
BEGIN:STANDARD
TZOFFSETFROM:-0500
TZOFFSETTO:-0600
TZNAME:CST
DTSTART:20271107T070000
END:STANDARD
END:VTIMEZONE
BEGIN:VEVENT
DTSTART;TZID=America/Chicago:20260202T080000
DTEND;TZID=America/Chicago:20260206T170000
DTSTAMP:20260424T095633
CREATED:20251210T021739Z
LAST-MODIFIED:20260116T020322Z
UID:10001981-1770019200-1770397200@c2backflowservices.com
SUMMARY:40 Hour - Backflow Prevention Assembly Tester Course ( 2/2-6) Forney
DESCRIPTION:Course Code #1200\nCost: $750\nClass Times: 8:00 AM – 5:00 PM
URL:https://c2backflowservices.com/course/40-hour-backflow-prevention-assembly-tester-course-2-2-6-forney/
LOCATION:Talty SUD\, 12475 Windy Ln\, Forney\, TX\, United States
END:VEVENT
BEGIN:VEVENT
DTSTART;TZID=America/Chicago:20260203T080000
DTEND;TZID=America/Chicago:20260203T170000
DTSTAMP:20260424T095633
CREATED:20251210T021942Z
LAST-MODIFIED:20260123T160425Z
UID:10001982-1770105600-1770138000@c2backflowservices.com
SUMMARY:8 Hour - Hands On Practical Skills ( 2/3)
DESCRIPTION:Cost $325\nClass Times: 8:00 AM – 5:00 PM
URL:https://c2backflowservices.com/course/8-hour-hands-on-practical-skills-2-3/
LOCATION:Talty SUD\, 12475 Windy Ln\, Forney\, TX\, United States
END:VEVENT
BEGIN:VEVENT
DTSTART;TZID=America/Chicago:20260203T080000
DTEND;TZID=America/Chicago:20260205T170000
DTSTAMP:20260424T095633
CREATED:20251210T031047Z
LAST-MODIFIED:20260112T220152Z
UID:10001996-1770105600-1770310800@c2backflowservices.com
SUMMARY:24 Hour - BPAT Renewal CEU's (2/3-5) Forney
DESCRIPTION:Cost: $650\nClass Times: 8:00 AM – 5:00 PM
URL:https://c2backflowservices.com/course/24-hour-bpat-renewal-ceus-2-3-5-forney/
LOCATION:Talty SUD\, 12475 Windy Ln\, Forney\, TX\, United States
END:VEVENT
BEGIN:VEVENT
DTSTART;TZID=America/Chicago:20260204T080000
DTEND;TZID=America/Chicago:20260204T170000
DTSTAMP:20260424T095633
CREATED:20251210T022146Z
LAST-MODIFIED:20260123T160305Z
UID:10001983-1770192000-1770224400@c2backflowservices.com
SUMMARY:8 Hour - Hands On Practical Skills (2/4)
DESCRIPTION:Cost $325\nClass Times: 8:00 AM – 5:00 PM
URL:https://c2backflowservices.com/course/8-hour-hands-on-practical-skills-2-4/
LOCATION:Talty SUD\, 12475 Windy Ln\, Forney\, TX\, United States
END:VEVENT
BEGIN:VEVENT
DTSTART;TZID=America/Chicago:20260205T080000
DTEND;TZID=America/Chicago:20260205T170000
DTSTAMP:20260424T095633
CREATED:20251210T022327Z
LAST-MODIFIED:20260123T155336Z
UID:10001984-1770278400-1770310800@c2backflowservices.com
SUMMARY:8 Hour - Hands On Practical Skills (2/5)
DESCRIPTION:Cost $325\nClass Times: 8:00 AM – 5:00 PM
URL:https://c2backflowservices.com/course/8-hour-hands-on-practical-skills-2-5/
LOCATION:Talty SUD\, 12475 Windy Ln\, Forney\, TX\, United States
END:VEVENT
BEGIN:VEVENT
DTSTART;TZID=America/Chicago:20260209T080000
DTEND;TZID=America/Chicago:20260213T170000
DTSTAMP:20260424T095633
CREATED:20251210T023257Z
LAST-MODIFIED:20251210T023257Z
UID:10001985-1770624000-1771002000@c2backflowservices.com
SUMMARY:40 Hour - Backflow Prevention Assembly Tester Course ( 2/9-13) Tyler
DESCRIPTION:Cost $750\nClass Times: 8:00 AM – 5:00 PM
URL:https://c2backflowservices.com/course/40-hour-backflow-prevention-assembly-tester-course-2-9-13-tyler/
LOCATION:Koetter Fire Protection\, 4910 Hightech Dr.\, Tyler\, TX\, United States
END:VEVENT
BEGIN:VEVENT
DTSTART;TZID=America/Chicago:20260210T080000
DTEND;TZID=America/Chicago:20260210T170000
DTSTAMP:20260424T095633
CREATED:20251210T023509Z
LAST-MODIFIED:20251210T023509Z
UID:10001986-1770710400-1770742800@c2backflowservices.com
SUMMARY:8 Hour - Hands On Practical Skills (2/10)
DESCRIPTION:Cost: $325\nClass Times: 8:00 AM – 5:00 PM
URL:https://c2backflowservices.com/course/8-hour-hands-on-practical-skills-2-10/
LOCATION:Koetter Fire Protection\, 4910 Hightech Dr.\, Tyler\, TX\, United States
END:VEVENT
BEGIN:VEVENT
DTSTART;TZID=America/Chicago:20260210T080000
DTEND;TZID=America/Chicago:20260212T170000
DTSTAMP:20260424T095633
CREATED:20251210T031309Z
LAST-MODIFIED:20251210T031309Z
UID:10001997-1770710400-1770915600@c2backflowservices.com
SUMMARY:24 Hour - BPAT Renewal (2/10-12) Tyler
DESCRIPTION:Cost: $650\nClass Times: 8:00 AM – 5:00 PM
URL:https://c2backflowservices.com/course/24-hour-bpat-renewal-2-10-12-tyler/
LOCATION:Koetter Fire Protection\, 4910 Hightech Dr.\, Tyler\, TX\, United States
END:VEVENT
BEGIN:VEVENT
DTSTART;TZID=America/Chicago:20260211T080000
DTEND;TZID=America/Chicago:20260211T170000
DTSTAMP:20260424T095633
CREATED:20251210T023651Z
LAST-MODIFIED:20251210T023651Z
UID:10001987-1770796800-1770829200@c2backflowservices.com
SUMMARY:8 Hour - Hands On Practical Skills (2/11)
DESCRIPTION:Cost: $325\nClass Times: 8:00 AM – 5:00 PM
URL:https://c2backflowservices.com/course/8-hour-hands-on-practical-skills-2-11/
LOCATION:Koetter Fire Protection\, 4910 Hightech Dr.\, Tyler\, TX\, United States
END:VEVENT
BEGIN:VEVENT
DTSTART;TZID=America/Chicago:20260212T080000
DTEND;TZID=America/Chicago:20260212T170000
DTSTAMP:20260424T095633
CREATED:20251210T023821Z
LAST-MODIFIED:20251210T023821Z
UID:10001988-1770883200-1770915600@c2backflowservices.com
SUMMARY:8 Hour - Hands On Practical Skills (2/12)
DESCRIPTION:Cost: $325\nClass Times: 8:00 AM – 5:00 PM
URL:https://c2backflowservices.com/course/8-hour-hands-on-practical-skills-2-12/
LOCATION:Koetter Fire Protection\, 4910 Hightech Dr.\, Tyler\, TX\, United States
END:VEVENT
BEGIN:VEVENT
DTSTART;TZID=America/Chicago:20260217T080000
DTEND;TZID=America/Chicago:20260217T170000
DTSTAMP:20260424T095633
CREATED:20251211T220751Z
LAST-MODIFIED:20260212T230948Z
UID:10002007-1771315200-1771347600@c2backflowservices.com
SUMMARY:8 Hour - Hands On Practical Skills (2/17) Wichita Falls
DESCRIPTION:Cost: $325\nClass Times: 8:00 AM – 5:00 PM
URL:https://c2backflowservices.com/course/8-hour-hands-on-practical-skills-2-17-wichita-falls/
LOCATION:Wichita Falls Cypress WTP\, 4801 Big Ed Neal Drive\, Wichita Falls\, TX\, 76310\, United States
END:VEVENT
BEGIN:VEVENT
DTSTART;TZID=America/Chicago:20260219T080000
DTEND;TZID=America/Chicago:20260219T170000
DTSTAMP:20260424T095633
CREATED:20251211T222402Z
LAST-MODIFIED:20251211T222402Z
UID:10002010-1771488000-1771520400@c2backflowservices.com
SUMMARY:East Texas Irrigation Association EXPO
DESCRIPTION:
URL:https://c2backflowservices.com/course/east-texas-irrigation-association-expo/
LOCATION:Texas A&M Agrilife Center\, 1710 N. FM 3053\, Overton\, TX\, 75684\, United States
END:VEVENT
BEGIN:VEVENT
DTSTART;TZID=America/Chicago:20260220T080000
DTEND;TZID=America/Chicago:20260220T170000
DTSTAMP:20260424T095633
CREATED:20251210T024018Z
LAST-MODIFIED:20251210T024018Z
UID:10001989-1771574400-1771606800@c2backflowservices.com
SUMMARY:8 Hour - Hands On Practical Skills ( 2/20) Bullard
DESCRIPTION:Cost: $325\nClass Times: 8:00 AM – 5:00 PM
URL:https://c2backflowservices.com/course/8-hour-hands-on-practical-skills-2-20-bullard/
LOCATION:First Baptist Church – Bullard\, 1428 S. Houston St.\, Bullard\, United States
END:VEVENT
BEGIN:VEVENT
DTSTART;TZID=America/Chicago:20260223T080000
DTEND;TZID=America/Chicago:20260223T170000
DTSTAMP:20260424T095633
CREATED:20251226T213059Z
LAST-MODIFIED:20251226T213059Z
UID:10002013-1771833600-1771866000@c2backflowservices.com
SUMMARY:8 Hour - Confined Space Safety ( 2/23)
DESCRIPTION:Cost: $250\nClass Tiem: 8:00 AM – 5:00 PM
URL:https://c2backflowservices.com/course/8-hour-confined-space-safety-2-23/
LOCATION:ONLINE
END:VEVENT
BEGIN:VEVENT
DTSTART;TZID=America/Chicago:20260224T080000
DTEND;TZID=America/Chicago:20260225T170000
DTSTAMP:20260424T095633
CREATED:20251226T213539Z
LAST-MODIFIED:20260112T220352Z
UID:10002014-1771920000-1772038800@c2backflowservices.com
SUMMARY:16 Hour - Customer Service Inspector (2/24-25)
DESCRIPTION:Cost: $300\nClass Times: 8:00 AM – 5:00 PM
URL:https://c2backflowservices.com/course/16-hour-customer-service-inspector/
LOCATION:ONLINE
END:VEVENT
BEGIN:VEVENT
DTSTART;TZID=America/Chicago:20260226T080000
DTEND;TZID=America/Chicago:20260226T170000
DTSTAMP:20260424T095633
CREATED:20251211T222812Z
LAST-MODIFIED:20251211T223215Z
UID:10002011-1772092800-1772125200@c2backflowservices.com
SUMMARY:Texas Irrigation Association Online CEU Event
DESCRIPTION:
URL:https://c2backflowservices.com/course/texas-irrigation-association-online-ceu-event/
LOCATION:ONLINE
END:VEVENT
END:VCALENDAR