BEGIN:VCALENDAR
VERSION:2.0
PRODID:-//C2 Backflow Services - ECPv6.15.17.1//NONSGML v1.0//EN
CALSCALE:GREGORIAN
METHOD:PUBLISH
X-ORIGINAL-URL:https://c2backflowservices.com
X-WR-CALDESC:Events for C2 Backflow Services
REFRESH-INTERVAL;VALUE=DURATION:PT1H
X-Robots-Tag:noindex
X-PUBLISHED-TTL:PT1H
BEGIN:VTIMEZONE
TZID:America/Chicago
BEGIN:DAYLIGHT
TZOFFSETFROM:-0600
TZOFFSETTO:-0500
TZNAME:CDT
DTSTART:20250309T080000
END:DAYLIGHT
BEGIN:STANDARD
TZOFFSETFROM:-0500
TZOFFSETTO:-0600
TZNAME:CST
DTSTART:20251102T070000
END:STANDARD
BEGIN:DAYLIGHT
TZOFFSETFROM:-0600
TZOFFSETTO:-0500
TZNAME:CDT
DTSTART:20260308T080000
END:DAYLIGHT
BEGIN:STANDARD
TZOFFSETFROM:-0500
TZOFFSETTO:-0600
TZNAME:CST
DTSTART:20261101T070000
END:STANDARD
BEGIN:DAYLIGHT
TZOFFSETFROM:-0600
TZOFFSETTO:-0500
TZNAME:CDT
DTSTART:20270314T080000
END:DAYLIGHT
BEGIN:STANDARD
TZOFFSETFROM:-0500
TZOFFSETTO:-0600
TZNAME:CST
DTSTART:20271107T070000
END:STANDARD
END:VTIMEZONE
BEGIN:VEVENT
DTSTART;TZID=America/Chicago:20260508T080000
DTEND;TZID=America/Chicago:20260508T163000
DTSTAMP:20260424T093544
CREATED:20260407T231750Z
LAST-MODIFIED:20260407T232011Z
UID:10002023-1778227200-1778257800@c2backflowservices.com
SUMMARY:8 Hour - Hands On Practical Skills ( 5/8)
DESCRIPTION:Cost: $325\nClass Times: 8:00 AM – 4:30 PM
URL:https://c2backflowservices.com/course/8-hour-hands-on-practical-skills-5-8-2/
LOCATION:Combined Consumers SUD\, 10446 FM 751\, Quinlan\, TX\, 75474\, United States
END:VEVENT
END:VCALENDAR