BEGIN:VCALENDAR
VERSION:2.0
PRODID:-//C2 Backflow Services - ECPv6.15.17.1//NONSGML v1.0//EN
CALSCALE:GREGORIAN
METHOD:PUBLISH
X-WR-CALNAME:C2 Backflow Services
X-ORIGINAL-URL:https://c2backflowservices.com
X-WR-CALDESC:Events for C2 Backflow Services
REFRESH-INTERVAL;VALUE=DURATION:PT1H
X-Robots-Tag:noindex
X-PUBLISHED-TTL:PT1H
BEGIN:VTIMEZONE
TZID:America/Chicago
BEGIN:DAYLIGHT
TZOFFSETFROM:-0600
TZOFFSETTO:-0500
TZNAME:CDT
DTSTART:20240310T080000
END:DAYLIGHT
BEGIN:STANDARD
TZOFFSETFROM:-0500
TZOFFSETTO:-0600
TZNAME:CST
DTSTART:20241103T070000
END:STANDARD
BEGIN:DAYLIGHT
TZOFFSETFROM:-0600
TZOFFSETTO:-0500
TZNAME:CDT
DTSTART:20250309T080000
END:DAYLIGHT
BEGIN:STANDARD
TZOFFSETFROM:-0500
TZOFFSETTO:-0600
TZNAME:CST
DTSTART:20251102T070000
END:STANDARD
BEGIN:DAYLIGHT
TZOFFSETFROM:-0600
TZOFFSETTO:-0500
TZNAME:CDT
DTSTART:20260308T080000
END:DAYLIGHT
BEGIN:STANDARD
TZOFFSETFROM:-0500
TZOFFSETTO:-0600
TZNAME:CST
DTSTART:20261101T070000
END:STANDARD
BEGIN:DAYLIGHT
TZOFFSETFROM:-0600
TZOFFSETTO:-0500
TZNAME:CDT
DTSTART:20270314T080000
END:DAYLIGHT
BEGIN:STANDARD
TZOFFSETFROM:-0500
TZOFFSETTO:-0600
TZNAME:CST
DTSTART:20271107T070000
END:STANDARD
END:VTIMEZONE
BEGIN:VEVENT
DTSTART;TZID=America/Chicago:20260328T080000
DTEND;TZID=America/Chicago:20260328T170000
DTSTAMP:20260424T140325
CREATED:20251210T025328Z
LAST-MODIFIED:20251210T025328Z
UID:10001994-1774684800-1774717200@c2backflowservices.com
SUMMARY:8 Hour - Rules and Regulations Pertaining to Backflow (3/28)
DESCRIPTION:Cost: $200\nClass Times: 8:00 AM – 5:00 PM
URL:https://c2backflowservices.com/course/8-hour-rules-and-regulations-pertaining-to-backflow-3-28/
LOCATION:Earl’s Plumbing\, 4720 US Hwy 84\, Lubbock\, TX\, United States
END:VEVENT
BEGIN:VEVENT
DTSTART;TZID=America/Chicago:20260326T080000
DTEND;TZID=America/Chicago:20260326T170000
DTSTAMP:20260424T140325
CREATED:20251210T024954Z
LAST-MODIFIED:20251210T024954Z
UID:10001993-1774512000-1774544400@c2backflowservices.com
SUMMARY:8 Hour - Hands On Practical Skills (3/26)
DESCRIPTION:Cost: $325\nClass Times: 8:00 AM – 5:00 PM
URL:https://c2backflowservices.com/course/8-hour-hands-on-practical-skills-3-26/
LOCATION:Earl’s Plumbing\, 4720 US Hwy 84\, Lubbock\, TX\, United States
END:VEVENT
BEGIN:VEVENT
DTSTART;TZID=America/Chicago:20260325T080000
DTEND;TZID=America/Chicago:20260325T170000
DTSTAMP:20260424T140325
CREATED:20251210T024627Z
LAST-MODIFIED:20251210T031910Z
UID:10001992-1774425600-1774458000@c2backflowservices.com
SUMMARY:8 Hour - Hands On Practical Skills (3/25)
DESCRIPTION:Cost: $325\nClass Times: 8:00 AM – 5:00 PM
URL:https://c2backflowservices.com/course/8-hour-hands-on-practical-skills-3-25-2/
LOCATION:Earl’s Plumbing\, 4720 US Hwy 84\, Lubbock\, TX\, United States
END:VEVENT
BEGIN:VEVENT
DTSTART;TZID=America/Chicago:20260324T080000
DTEND;TZID=America/Chicago:20260326T170000
DTSTAMP:20260424T140325
CREATED:20251210T031535Z
LAST-MODIFIED:20260312T205010Z
UID:10001998-1774339200-1774544400@c2backflowservices.com
SUMMARY:24 Hour - BPAT Renewal ( 3/24-26) Lubbock
DESCRIPTION:Cost: $650\nClass Times: 8:00 AM – 5:00 PM
URL:https://c2backflowservices.com/course/24-hour-bpat-renewal-3-24-26-lubbock/
LOCATION:Earl’s Plumbing\, 4720 US Hwy 84\, Lubbock\, TX\, United States
END:VEVENT
BEGIN:VEVENT
DTSTART;TZID=America/Chicago:20260324T080000
DTEND;TZID=America/Chicago:20260324T170000
DTSTAMP:20260424T140325
CREATED:20251210T024435Z
LAST-MODIFIED:20251210T024435Z
UID:10001991-1774339200-1774371600@c2backflowservices.com
SUMMARY:8 Hour - Hands On Practical Skills (3/24)
DESCRIPTION:Cost: $325\nClass Times: 8:00 AM – 5:00 PM
URL:https://c2backflowservices.com/course/8-hour-hands-on-practical-skills-3-24/
LOCATION:Earl’s Plumbing\, 4720 US Hwy 84\, Lubbock\, TX\, United States
END:VEVENT
BEGIN:VEVENT
DTSTART;TZID=America/Chicago:20260323T080000
DTEND;TZID=America/Chicago:20260327T170000
DTSTAMP:20260424T140325
CREATED:20251210T024304Z
LAST-MODIFIED:20251210T024304Z
UID:10001990-1774252800-1774630800@c2backflowservices.com
SUMMARY:40 Hour - Backflow Prevention Assembly Tester Course (3/23-27) Lubbock
DESCRIPTION:Cost: $750\nClass Times: 8:00 AM – 5:00 PM
URL:https://c2backflowservices.com/course/40-hour-backflow-prevention-assembly-tester-course-3-23-27-lubbock/
LOCATION:Earl’s Plumbing\, 4720 US Hwy 84\, Lubbock\, TX\, United States
END:VEVENT
BEGIN:VEVENT
DTSTART;TZID=America/Chicago:20250329T080000
DTEND;TZID=America/Chicago:20250329T170000
DTSTAMP:20260424T140325
CREATED:20241205T170753Z
LAST-MODIFIED:20241205T170820Z
UID:10000050-1743235200-1743267600@c2backflowservices.com
SUMMARY:8 Hour - Confined Space Safety (3/29)
DESCRIPTION:Course #1330 \nClass Times: 8:00 AM – 5:00 PM \nCost $250  Payment due at registration. \nThis is an in person class. \n  \nThis course awards 8 hrs ceu’s for BPAT\, LI\, Water and Wastewater Operator\, and OSSF licenses
URL:https://c2backflowservices.com/course/8-hour-confined-space-safety-3-29/
LOCATION:Earl’s Plumbing\, 4720 US Hwy 84\, Lubbock\, TX\, United States
END:VEVENT
BEGIN:VEVENT
DTSTART;TZID=America/Chicago:20250328T080000
DTEND;TZID=America/Chicago:20250328T170000
DTSTAMP:20260424T140325
CREATED:20241205T170512Z
LAST-MODIFIED:20241205T170512Z
UID:10000049-1743148800-1743181200@c2backflowservices.com
SUMMARY:Practical Skills Exam ONLY (3/28)
DESCRIPTION:Course #1350 \nClass Times: 8:00 AM – 5:00 PM \nCost $300  Payment due at registration
URL:https://c2backflowservices.com/course/practical-skills-exam-only-3-28/
LOCATION:Earl’s Plumbing\, 4720 US Hwy 84\, Lubbock\, TX\, United States
END:VEVENT
BEGIN:VEVENT
DTSTART;TZID=America/Chicago:20250327T080000
DTEND;TZID=America/Chicago:20250327T170000
DTSTAMP:20260424T140325
CREATED:20241205T170400Z
LAST-MODIFIED:20241205T170400Z
UID:10000048-1743062400-1743094800@c2backflowservices.com
SUMMARY:8 Hour - Hands On Practical Skills (3/27)
DESCRIPTION:Course #1201 \nClass Times: 8:00 AM – 5:00 PM \nCost $275  Payment due at registration
URL:https://c2backflowservices.com/course/8-hour-hands-on-practical-skills-3-27/
LOCATION:Earl’s Plumbing\, 4720 US Hwy 84\, Lubbock\, TX\, United States
END:VEVENT
BEGIN:VEVENT
DTSTART;TZID=America/Chicago:20250326T080000
DTEND;TZID=America/Chicago:20250326T170000
DTSTAMP:20260424T140325
CREATED:20241205T170309Z
LAST-MODIFIED:20241205T170309Z
UID:10000047-1742976000-1743008400@c2backflowservices.com
SUMMARY:8 Hour - Hands On Practical Skills (3/26)
DESCRIPTION:Course #1201 \nClass Times: 8:00 AM – 5:00 PM \nCost $275  Payment due at registration
URL:https://c2backflowservices.com/course/8-hour-hands-on-practical-skills-3-26-2/
LOCATION:Earl’s Plumbing\, 4720 US Hwy 84\, Lubbock\, TX\, United States
END:VEVENT
BEGIN:VEVENT
DTSTART;TZID=America/Chicago:20250325T080000
DTEND;TZID=America/Chicago:20250327T170000
DTSTAMP:20260424T140325
CREATED:20250108T223339Z
LAST-MODIFIED:20250317T213226Z
UID:10001904-1742889600-1743094800@c2backflowservices.com
SUMMARY:24 Hour BPAT Renewal (3/25 - 3/27)
DESCRIPTION:Payment is due at registration \nCost $575
URL:https://c2backflowservices.com/course/24-hour-bpat-renewal-3-25-3-27/
LOCATION:Earl’s Plumbing\, 4720 US Hwy 84\, Lubbock\, TX\, United States
END:VEVENT
BEGIN:VEVENT
DTSTART;TZID=America/Chicago:20250325T080000
DTEND;TZID=America/Chicago:20250325T170000
DTSTAMP:20260424T140325
CREATED:20241205T170109Z
LAST-MODIFIED:20241205T172058Z
UID:10000045-1742889600-1742922000@c2backflowservices.com
SUMMARY:8 Hour - Hands On Practical Skills (3/25)
DESCRIPTION:Course #1201 \nClass Times: 8:00 AM – 5:00 PM \nCost $275  Payment due at registration
URL:https://c2backflowservices.com/course/8-hour-hands-on-practical-skills-3-25/
LOCATION:Earl’s Plumbing\, 4720 US Hwy 84\, Lubbock\, TX\, United States
END:VEVENT
BEGIN:VEVENT
DTSTART;TZID=America/Chicago:20250324T080000
DTEND;TZID=America/Chicago:20250328T170000
DTSTAMP:20260424T140325
CREATED:20241205T165903Z
LAST-MODIFIED:20250317T213040Z
UID:10000044-1742803200-1743181200@c2backflowservices.com
SUMMARY:40 Hour - Backflow Prevention Assembly Tester Course (3/24-3/28) Lubbock
DESCRIPTION:Course #1200 \nClass Times: 8:00 AM – 5:00 PM \nCost $675 Payment is due at registration
URL:https://c2backflowservices.com/course/40-hour-backflow-prevention-assembly-tester-course-3-24-3-28/
LOCATION:Earl’s Plumbing\, 4720 US Hwy 84\, Lubbock\, TX\, United States
END:VEVENT
END:VCALENDAR