BEGIN:VCALENDAR
VERSION:2.0
PRODID:-//C2 Backflow Services - ECPv6.15.17.1//NONSGML v1.0//EN
CALSCALE:GREGORIAN
METHOD:PUBLISH
X-ORIGINAL-URL:https://c2backflowservices.com
X-WR-CALDESC:Events for C2 Backflow Services
REFRESH-INTERVAL;VALUE=DURATION:PT1H
X-Robots-Tag:noindex
X-PUBLISHED-TTL:PT1H
BEGIN:VTIMEZONE
TZID:America/Chicago
BEGIN:DAYLIGHT
TZOFFSETFROM:-0600
TZOFFSETTO:-0500
TZNAME:CDT
DTSTART:20250309T080000
END:DAYLIGHT
BEGIN:STANDARD
TZOFFSETFROM:-0500
TZOFFSETTO:-0600
TZNAME:CST
DTSTART:20251102T070000
END:STANDARD
BEGIN:DAYLIGHT
TZOFFSETFROM:-0600
TZOFFSETTO:-0500
TZNAME:CDT
DTSTART:20260308T080000
END:DAYLIGHT
BEGIN:STANDARD
TZOFFSETFROM:-0500
TZOFFSETTO:-0600
TZNAME:CST
DTSTART:20261101T070000
END:STANDARD
BEGIN:DAYLIGHT
TZOFFSETFROM:-0600
TZOFFSETTO:-0500
TZNAME:CDT
DTSTART:20270314T080000
END:DAYLIGHT
BEGIN:STANDARD
TZOFFSETFROM:-0500
TZOFFSETTO:-0600
TZNAME:CST
DTSTART:20271107T070000
END:STANDARD
END:VTIMEZONE
BEGIN:VEVENT
DTSTART;TZID=America/Chicago:20260622T080000
DTEND;TZID=America/Chicago:20260626T170000
DTSTAMP:20260424T093249
CREATED:20260411T112404Z
LAST-MODIFIED:20260411T112404Z
UID:10002025-1782115200-1782493200@c2backflowservices.com
SUMMARY:40 Hour - Backflow Prevention Assembly Tester Course ( 6/22-26) Austin
DESCRIPTION:Cost: $750\nClass Times: 8:00 AM – 5:00 PM
URL:https://c2backflowservices.com/course/40-hour-backflow-prevention-assembly-tester-course-6-22-26-austin/
LOCATION:Firetrol Protection Systems\, 4616 W\, Howard Ln Ste\, 7-700\, Austin\, TX\, 78728\, United States
END:VEVENT
BEGIN:VEVENT
DTSTART;TZID=America/Chicago:20260623T080000
DTEND;TZID=America/Chicago:20260623T170000
DTSTAMP:20260424T093249
CREATED:20260411T115859Z
LAST-MODIFIED:20260411T115859Z
UID:10002040-1782201600-1782234000@c2backflowservices.com
SUMMARY:8 Hr - Hands On Practical Skills ( 6/23) Austin
DESCRIPTION:Cost: $325\nClass Times: 8:00 AM – 5:00 PM
URL:https://c2backflowservices.com/course/8-hr-hands-on-practical-skills-6-23-austin/
LOCATION:Firetrol Protection Systems\, 4616 W\, Howard Ln Ste\, 7-700\, Austin\, TX\, 78728\, United States
END:VEVENT
BEGIN:VEVENT
DTSTART;TZID=America/Chicago:20260623T080000
DTEND;TZID=America/Chicago:20260625T170000
DTSTAMP:20260424T093249
CREATED:20260411T115617Z
LAST-MODIFIED:20260411T115617Z
UID:10002039-1782201600-1782406800@c2backflowservices.com
SUMMARY:24 Hr - BPAT Renewal CEU's ( 6/23-25) Austin
DESCRIPTION:Cost: $650\nClass Times: 8:00 AM -5:00 PM
URL:https://c2backflowservices.com/course/24-hr-bpat-renewal-ceus-6-23-25-austin/
LOCATION:Firetrol Protection Systems\, 4616 W\, Howard Ln Ste\, 7-700\, Austin\, TX\, 78728\, United States
END:VEVENT
BEGIN:VEVENT
DTSTART;TZID=America/Chicago:20260624T080000
DTEND;TZID=America/Chicago:20260624T170000
DTSTAMP:20260424T093249
CREATED:20260411T115932Z
LAST-MODIFIED:20260411T115932Z
UID:10002041-1782288000-1782320400@c2backflowservices.com
SUMMARY:8 Hr - Hands On Practical Skills ( 6/24) Austin
DESCRIPTION:Cost: $325\nClass Times: 8:00 AM – 5:00 PM
URL:https://c2backflowservices.com/course/8-hr-hands-on-practical-skills-6-24-austin/
LOCATION:Firetrol Protection Systems\, 4616 W\, Howard Ln Ste\, 7-700\, Austin\, TX\, 78728\, United States
END:VEVENT
BEGIN:VEVENT
DTSTART;TZID=America/Chicago:20260625T080000
DTEND;TZID=America/Chicago:20260625T170000
DTSTAMP:20260424T093249
CREATED:20260411T120006Z
LAST-MODIFIED:20260411T120006Z
UID:10002042-1782374400-1782406800@c2backflowservices.com
SUMMARY:8 Hr - Hands On Practical Skills ( 6/25) Austin
DESCRIPTION:Cost: $325\nClass Times: 8:00 AM – 5:00 PM
URL:https://c2backflowservices.com/course/8-hr-hands-on-practical-skills-6-25-austin/
LOCATION:Firetrol Protection Systems\, 4616 W\, Howard Ln Ste\, 7-700\, Austin\, TX\, 78728\, United States
END:VEVENT
BEGIN:VEVENT
DTSTART;TZID=America/Chicago:20261026T080000
DTEND;TZID=America/Chicago:20261030T170000
DTSTAMP:20260424T093249
CREATED:20260411T112631Z
LAST-MODIFIED:20260411T112631Z
UID:10002026-1793001600-1793379600@c2backflowservices.com
SUMMARY:40 Hour - Backflow Prevention Assembly Tester Course ( 10/26-30) Austin
DESCRIPTION:Cost: $750\nClass Times: 8:00 AM – 5:00 PM
URL:https://c2backflowservices.com/course/40-hour-backflow-prevention-assembly-tester-course-10-26-30-austin/
LOCATION:Firetrol Protection Systems\, 4616 W\, Howard Ln Ste\, 7-700\, Austin\, TX\, 78728\, United States
END:VEVENT
END:VCALENDAR